BEGIN:VCALENDAR
VERSION:2.0
PRODID:-//Crosby Scholars Iredell - ECPv6.15.13.1//NONSGML v1.0//EN
CALSCALE:GREGORIAN
METHOD:PUBLISH
X-ORIGINAL-URL:https://www.crosbyscholarsiredell.org
X-WR-CALDESC:Events for Crosby Scholars Iredell
REFRESH-INTERVAL;VALUE=DURATION:PT1H
X-Robots-Tag:noindex
X-PUBLISHED-TTL:PT1H
BEGIN:VTIMEZONE
TZID:America/New_York
BEGIN:DAYLIGHT
TZOFFSETFROM:-0500
TZOFFSETTO:-0400
TZNAME:EDT
DTSTART:20200308T070000
END:DAYLIGHT
BEGIN:STANDARD
TZOFFSETFROM:-0400
TZOFFSETTO:-0500
TZNAME:EST
DTSTART:20201101T060000
END:STANDARD
BEGIN:DAYLIGHT
TZOFFSETFROM:-0500
TZOFFSETTO:-0400
TZNAME:EDT
DTSTART:20210314T070000
END:DAYLIGHT
BEGIN:STANDARD
TZOFFSETFROM:-0400
TZOFFSETTO:-0500
TZNAME:EST
DTSTART:20211107T060000
END:STANDARD
BEGIN:DAYLIGHT
TZOFFSETFROM:-0500
TZOFFSETTO:-0400
TZNAME:EDT
DTSTART:20220313T070000
END:DAYLIGHT
BEGIN:STANDARD
TZOFFSETFROM:-0400
TZOFFSETTO:-0500
TZNAME:EST
DTSTART:20221106T060000
END:STANDARD
BEGIN:DAYLIGHT
TZOFFSETFROM:-0500
TZOFFSETTO:-0400
TZNAME:EDT
DTSTART:20230312T070000
END:DAYLIGHT
BEGIN:STANDARD
TZOFFSETFROM:-0400
TZOFFSETTO:-0500
TZNAME:EST
DTSTART:20231105T060000
END:STANDARD
BEGIN:DAYLIGHT
TZOFFSETFROM:-0500
TZOFFSETTO:-0400
TZNAME:EDT
DTSTART:20240310T070000
END:DAYLIGHT
BEGIN:STANDARD
TZOFFSETFROM:-0400
TZOFFSETTO:-0500
TZNAME:EST
DTSTART:20241103T060000
END:STANDARD
BEGIN:DAYLIGHT
TZOFFSETFROM:-0500
TZOFFSETTO:-0400
TZNAME:EDT
DTSTART:20250309T070000
END:DAYLIGHT
BEGIN:STANDARD
TZOFFSETFROM:-0400
TZOFFSETTO:-0500
TZNAME:EST
DTSTART:20251102T060000
END:STANDARD
BEGIN:DAYLIGHT
TZOFFSETFROM:-0500
TZOFFSETTO:-0400
TZNAME:EDT
DTSTART:20260308T070000
END:DAYLIGHT
BEGIN:STANDARD
TZOFFSETFROM:-0400
TZOFFSETTO:-0500
TZNAME:EST
DTSTART:20261101T060000
END:STANDARD
END:VTIMEZONE
BEGIN:VEVENT
DTSTART;TZID=America/New_York:20210331T180000
DTEND;TZID=America/New_York:20210331T190000
DTSTAMP:20260419T200209
CREATED:20210303T143931Z
LAST-MODIFIED:20210303T143931Z
UID:10001241-1617213600-1617217200@www.crosbyscholarsiredell.org
SUMMARY:JR. Academy - CHOOSING A DIFFERENT PATH?
DESCRIPTION:Thinking of  Gap Year?  Community College?  Military?  Work?  If you are not looking to start a 4-year school after high school then you want to attend this academy! \nLet’s explore options for success after high school.  Everyone has to pick their own path but you must have a plan!  This session will help you see what opportunities are available.
URL:https://www.crosbyscholarsiredell.org/events/jr-academy-choosing-a-different-path/
LOCATION:Iredell Crosby Scholars\, 124 Fourth Crescent Place\, Statesville\, NC\, 28625\, United States
CATEGORIES:Junior Academy
ORGANIZER;CN="Iredell Crosby Scholars":MAILTO:info@crosbyscholarsiredell.org
END:VEVENT
BEGIN:VEVENT
DTSTART;TZID=America/New_York:20250226T190000
DTEND;TZID=America/New_York:20250226T200000
DTSTAMP:20260419T200209
CREATED:20250206T184737Z
LAST-MODIFIED:20250218T162549Z
UID:10001650-1740596400-1740600000@www.crosbyscholarsiredell.org
SUMMARY:VIRTUAL ACADEMY - Is A Gap Year For You?
DESCRIPTION:This term is used widely but do you really know what a “gap year” is and how you can get the most out of it?  Join us to discuss “gap year” dos and don’ts and your options. \n \nClick here to register!
URL:https://www.crosbyscholarsiredell.org/events/gap-year-academy/
CATEGORIES:11th Grade,12th Grade,Academy,Junior Academy,Parent Academy,Senior Academy
END:VEVENT
END:VCALENDAR