BEGIN:VCALENDAR
VERSION:2.0
PRODID:-//Crosby Scholars Iredell - ECPv6.15.13.1//NONSGML v1.0//EN
CALSCALE:GREGORIAN
METHOD:PUBLISH
X-WR-CALNAME:Crosby Scholars Iredell
X-ORIGINAL-URL:https://www.crosbyscholarsiredell.org
X-WR-CALDESC:Events for Crosby Scholars Iredell
REFRESH-INTERVAL;VALUE=DURATION:PT1H
X-Robots-Tag:noindex
X-PUBLISHED-TTL:PT1H
BEGIN:VTIMEZONE
TZID:America/New_York
BEGIN:DAYLIGHT
TZOFFSETFROM:-0500
TZOFFSETTO:-0400
TZNAME:EDT
DTSTART:20190310T070000
END:DAYLIGHT
BEGIN:STANDARD
TZOFFSETFROM:-0400
TZOFFSETTO:-0500
TZNAME:EST
DTSTART:20191103T060000
END:STANDARD
BEGIN:DAYLIGHT
TZOFFSETFROM:-0500
TZOFFSETTO:-0400
TZNAME:EDT
DTSTART:20200308T070000
END:DAYLIGHT
BEGIN:STANDARD
TZOFFSETFROM:-0400
TZOFFSETTO:-0500
TZNAME:EST
DTSTART:20201101T060000
END:STANDARD
BEGIN:DAYLIGHT
TZOFFSETFROM:-0500
TZOFFSETTO:-0400
TZNAME:EDT
DTSTART:20210314T070000
END:DAYLIGHT
BEGIN:STANDARD
TZOFFSETFROM:-0400
TZOFFSETTO:-0500
TZNAME:EST
DTSTART:20211107T060000
END:STANDARD
END:VTIMEZONE
BEGIN:VEVENT
DTSTART;TZID=America/New_York:20200302T083000
DTEND;TZID=America/New_York:20200302T085500
DTSTAMP:20260420T073832
CREATED:20191127T152413Z
LAST-MODIFIED:20191127T154857Z
UID:10001016-1583137800-1583139300@www.crosbyscholarsiredell.org
SUMMARY:Statesville High School's 9th Grade Crosby Club Meeting #3
DESCRIPTION:Statesville High School’s 9th Grade Crosby Club Meeting #3 will be held on 3/2/20 at 8:30 am in the Media Center. Register through your student portal.
URL:https://www.crosbyscholarsiredell.org/events/statesville-high-schools-9th-grade-crosby-club-meeting-3/
LOCATION:NC
END:VEVENT
BEGIN:VEVENT
DTSTART;TZID=America/New_York:20200302T100000
DTEND;TZID=America/New_York:20200302T102500
DTSTAMP:20260420T073832
CREATED:20191127T152625Z
LAST-MODIFIED:20191127T152625Z
UID:10001017-1583143200-1583144700@www.crosbyscholarsiredell.org
SUMMARY:Statesville High School's 10th Grade Crosby Club Meeting #3
DESCRIPTION:Statesville High School’s 10th Grade Crosby Club Meeting #3 will be held on 3/2/20 at 10 am in the Media Center. Please register through your student portal.
URL:https://www.crosbyscholarsiredell.org/events/statesville-high-schools-10th-grade-crosby-club-meeting-3/
LOCATION:NC
END:VEVENT
BEGIN:VEVENT
DTSTART;TZID=America/New_York:20200302T140000
DTEND;TZID=America/New_York:20200302T142500
DTSTAMP:20260420T073832
CREATED:20191127T152841Z
LAST-MODIFIED:20191127T152841Z
UID:10001018-1583157600-1583159100@www.crosbyscholarsiredell.org
SUMMARY:Statesville High School's Crosby Club Meeting #3 for Juniors
DESCRIPTION:Statesville High School’s Crosby Club Meeting #3 for Juniors will be held on 3/2/20 at 2 pm in the Media Center. Please register through your student portal.
URL:https://www.crosbyscholarsiredell.org/events/statesville-high-schools-crosby-club-meeting-3-for-juniors/
LOCATION:NC
END:VEVENT
BEGIN:VEVENT
DTSTART;TZID=America/New_York:20200303T111500
DTEND;TZID=America/New_York:20200303T114500
DTSTAMP:20260420T073832
CREATED:20200204T171304Z
LAST-MODIFIED:20200204T171304Z
UID:10001063-1583234100-1583235900@www.crosbyscholarsiredell.org
SUMMARY:North Iredell High School Crosby Club Meeting #3 - 9th Grade
DESCRIPTION:North Iredell High School 9th Grade Crosby Club Meeting #3 will be held on 3/3/2020 from 11:15 am to 11:45 am in the Media Center. 
URL:https://www.crosbyscholarsiredell.org/events/north-iredell-high-school-crosby-club-meeting-3-9th-grade/
LOCATION:NC
END:VEVENT
BEGIN:VEVENT
DTSTART;VALUE=DATE:20200304
DTEND;VALUE=DATE:20200305
DTSTAMP:20260420T073832
CREATED:20200302T212118Z
LAST-MODIFIED:20200302T212118Z
UID:10001088-1583280000-1583366399@www.crosbyscholarsiredell.org
SUMMARY:South Iredell Crosby Club Meeting 3- 10th Grade
DESCRIPTION:Join us for the third Crosby Club meeting at South Iredell High School on March 4\, 2020 at 3:15p.pm. in the library!
URL:https://www.crosbyscholarsiredell.org/events/south-iredell-crosby-club-meeting-3-10th-grade/
LOCATION:NC
END:VEVENT
BEGIN:VEVENT
DTSTART;TZID=America/New_York:20200304T111500
DTEND;TZID=America/New_York:20200304T114500
DTSTAMP:20260420T073832
CREATED:20200204T171512Z
LAST-MODIFIED:20200204T171512Z
UID:10001064-1583320500-1583322300@www.crosbyscholarsiredell.org
SUMMARY:North Iredell High School Crosby Club Meeting #3 - 10th Grade
DESCRIPTION:North Iredell High School 10th Grade Crosby Club Meeting #3 will be held on 3/4/2020 from 11:15 am to 11:45 am in the Media Center.
URL:https://www.crosbyscholarsiredell.org/events/north-iredell-high-school-crosby-club-meeting-3-10th-grade/
LOCATION:NC
END:VEVENT
BEGIN:VEVENT
DTSTART;TZID=America/New_York:20200304T123000
DTEND;TZID=America/New_York:20200304T130000
DTSTAMP:20260420T073832
CREATED:20200205T160159Z
LAST-MODIFIED:20200205T160159Z
UID:10001082-1583325000-1583326800@www.crosbyscholarsiredell.org
SUMMARY:Langtree Crosby Club Meeting #3 - 11th Grade
DESCRIPTION:Langtree 11th Grade Crosby Club Meeting #3 will be held on 3/4/2020 at 12:30 pm in Room 256. Your Crosby Club Advisor is Ms. Jamison.
URL:https://www.crosbyscholarsiredell.org/events/langtree-crosby-club-meeting-3-11th-grade/
LOCATION:NC
END:VEVENT
BEGIN:VEVENT
DTSTART;TZID=America/New_York:20200304T130500
DTEND;TZID=America/New_York:20200304T133000
DTSTAMP:20260420T073832
CREATED:20200205T155758Z
LAST-MODIFIED:20200205T155758Z
UID:10001080-1583327100-1583328600@www.crosbyscholarsiredell.org
SUMMARY:Langtree Crosby Club Meeting #3 - 9th Grade
DESCRIPTION:Langtree 9th Grade Crosby Club Meeting #3 will be held on 3/4/2020 at 1:05 pm in Room 219. Your Crosby Club Advisor is Ms. Turner-Moore.
URL:https://www.crosbyscholarsiredell.org/events/langtree-crosby-club-meeting-3-9th-grade/
LOCATION:NC
END:VEVENT
BEGIN:VEVENT
DTSTART;TZID=America/New_York:20200304T130500
DTEND;TZID=America/New_York:20200304T133000
DTSTAMP:20260420T073832
CREATED:20200205T160003Z
LAST-MODIFIED:20200205T160003Z
UID:10001081-1583327100-1583328600@www.crosbyscholarsiredell.org
SUMMARY:Langtree Crosby Club Meeting #3 - 10th Grade
DESCRIPTION:Langtree 10th Grade Crosby Club Meeting #3 will be held on 3/4/2020 at 1:05 pm in Room 266. Your Crosby Club Advisor is Ms. Montgomery.
URL:https://www.crosbyscholarsiredell.org/events/langtree-crosby-club-meeting-3-10th-grade/
LOCATION:NC
END:VEVENT
BEGIN:VEVENT
DTSTART;VALUE=DATE:20200305
DTEND;VALUE=DATE:20200306
DTSTAMP:20260420T073832
CREATED:20200302T212305Z
LAST-MODIFIED:20200302T212305Z
UID:10001089-1583366400-1583452799@www.crosbyscholarsiredell.org
SUMMARY:South Iredell Crosby Club Meeting 3- 11th Grade
DESCRIPTION:Join us for the third Crosby Club meeting at South Iredell High school in the library at 3:15p.m. on March 5\, 2020!
URL:https://www.crosbyscholarsiredell.org/events/south-iredell-crosby-club-meeting-3-11th-grade/
LOCATION:NC
END:VEVENT
BEGIN:VEVENT
DTSTART;TZID=America/New_York:20200305T111500
DTEND;TZID=America/New_York:20200305T114500
DTSTAMP:20260420T073832
CREATED:20200204T171657Z
LAST-MODIFIED:20200204T171657Z
UID:10001065-1583406900-1583408700@www.crosbyscholarsiredell.org
SUMMARY:North Iredell High School Crosby Club Meeting #3 - 11th Grade
DESCRIPTION:North Iredell High School 11th Grade Crosby Club Meeting #3 will be held on 3/5/2020 from 11:15 am to 11:45 am in the Media Center.
URL:https://www.crosbyscholarsiredell.org/events/north-iredell-high-school-crosby-club-meeting-3-11th-grade/
LOCATION:NC
END:VEVENT
BEGIN:VEVENT
DTSTART;TZID=America/New_York:20200305T112500
DTEND;TZID=America/New_York:20200305T112500
DTSTAMP:20260420T073832
CREATED:20200204T173321Z
LAST-MODIFIED:20200204T173321Z
UID:10001070-1583407500-1583407500@www.crosbyscholarsiredell.org
SUMMARY:West Iredell High School Crosby Club Meeting #3 - 9th Grade
DESCRIPTION:West Iredell High School 9th Grade Crosby Club Meeting #3 will be held on 3/5/2020 during A-SWAG from 11:25 am to 11:50 am in Room 128. Your Crosby Club Advisor is Mrs. Wegmiller.
URL:https://www.crosbyscholarsiredell.org/events/west-iredell-high-school-crosby-club-meeting-3-9th-grade/
LOCATION:NC
END:VEVENT
BEGIN:VEVENT
DTSTART;TZID=America/New_York:20200317T141500
DTEND;TZID=America/New_York:20200317T144500
DTSTAMP:20260420T073832
CREATED:20200204T175207Z
LAST-MODIFIED:20200204T175207Z
UID:10001075-1584454500-1584456300@www.crosbyscholarsiredell.org
SUMMARY:Pine Lake Prep Crosby Club Meeting #3 - 9th Grade
DESCRIPTION:Pine Lake Prep 9th Grade Crosby Club Meeting #3 will be held on 3/17/2020 from 2:15 pm to 2:45 pm in Room U125. Your Crosby Club Advisor is Ms. Montgomery.
URL:https://www.crosbyscholarsiredell.org/events/pine-lake-prep-crosby-club-meeting-3-9th-grade/
LOCATION:NC
END:VEVENT
BEGIN:VEVENT
DTSTART;TZID=America/New_York:20200317T141500
DTEND;TZID=America/New_York:20200317T144500
DTSTAMP:20260420T073832
CREATED:20200205T160353Z
LAST-MODIFIED:20200205T160353Z
UID:10001083-1584454500-1584456300@www.crosbyscholarsiredell.org
SUMMARY:Pine Lake Prep Crosby Club Meeting #3 - 9th Grade
DESCRIPTION:Pine Lake Prep 9th Grade Crosby Club Meeting #3 will be held on 3/17/2020 from 2:15 pm to 2:45 pm in Room U125. 
URL:https://www.crosbyscholarsiredell.org/events/pine-lake-prep-crosby-club-meeting-3-9th-grade-2/
LOCATION:NC
END:VEVENT
BEGIN:VEVENT
DTSTART;TZID=America/New_York:20200318T074500
DTEND;TZID=America/New_York:20200318T083000
DTSTAMP:20260420T073832
CREATED:20200204T174655Z
LAST-MODIFIED:20200204T174655Z
UID:10001074-1584517500-1584520200@www.crosbyscholarsiredell.org
SUMMARY:Mooresville High School Crosby Club Meeting #3 - 11th Grade
DESCRIPTION:Mooresville High School 11th Grade Crosby Club Meeting #3 will be held on 3/18/2020 from 7:45 am to 8:30 am in Room TBD.
URL:https://www.crosbyscholarsiredell.org/events/mooresville-high-school-crosby-club-meeting-3-11th-grade/
LOCATION:NC
END:VEVENT
BEGIN:VEVENT
DTSTART;TZID=America/New_York:20200318T100000
DTEND;TZID=America/New_York:20200318T104500
DTSTAMP:20260420T073832
CREATED:20200204T174335Z
LAST-MODIFIED:20200204T174335Z
UID:10001072-1584525600-1584528300@www.crosbyscholarsiredell.org
SUMMARY:Mooresville High School Crosby Club Meeting #3 - 9th Grade
DESCRIPTION:Mooresville High School 9th Grade Crosby Club Meeting #3 will be held on 3/18/2020 from 10:00 am to 10:45 am in Room TBD. 
URL:https://www.crosbyscholarsiredell.org/events/mooresville-high-school-crosby-club-meeting-3-9th-grade/
LOCATION:NC
END:VEVENT
BEGIN:VEVENT
DTSTART;TZID=America/New_York:20200318T134500
DTEND;TZID=America/New_York:20200318T143000
DTSTAMP:20260420T073832
CREATED:20200204T174522Z
LAST-MODIFIED:20200204T174522Z
UID:10001073-1584539100-1584541800@www.crosbyscholarsiredell.org
SUMMARY:Mooresville High School Crosby Club Meeting #3 - 10th Grade
DESCRIPTION:Mooresville High School 10th Grade Crosby Club Meeting #3 will be held on 3/18/2020 from 1:45 pm to 2:30 pm in Room TBD.
URL:https://www.crosbyscholarsiredell.org/events/mooresville-high-school-crosby-club-meeting-3-10th-grade/
LOCATION:NC
END:VEVENT
BEGIN:VEVENT
DTSTART;TZID=America/New_York:20200318T141500
DTEND;TZID=America/New_York:20200318T144500
DTSTAMP:20260420T073832
CREATED:20200204T175409Z
LAST-MODIFIED:20200204T175409Z
UID:10001076-1584540900-1584542700@www.crosbyscholarsiredell.org
SUMMARY:Pine Lake Prep Crosby Club Meeting #3 - 10th Grade
DESCRIPTION:Pine Lake Prep 10th Grade Crosby Club Meeting #3 will be held on 3/18/2020 from 2:15 pm to 2:45 pm in Room U125. Your Crosby Club Advisor is Ms. Montgomery.
URL:https://www.crosbyscholarsiredell.org/events/pine-lake-prep-crosby-club-meeting-3-10th-grade/
LOCATION:NC
END:VEVENT
BEGIN:VEVENT
DTSTART;TZID=America/New_York:20200318T141500
DTEND;TZID=America/New_York:20200318T144500
DTSTAMP:20260420T073832
CREATED:20200205T160551Z
LAST-MODIFIED:20200205T160551Z
UID:10001084-1584540900-1584542700@www.crosbyscholarsiredell.org
SUMMARY:Pine Lake Prep Crosby Club Meeting #3 - 10th Grade
DESCRIPTION:Pine Lake Prep 10th Grade Crosby Club Meeting #3 will be held on 3/18/2020 from 2:15 pm to 2:45 pm in Room U125.
URL:https://www.crosbyscholarsiredell.org/events/pine-lake-prep-crosby-club-meeting-3-10th-grade-2/
LOCATION:NC
END:VEVENT
BEGIN:VEVENT
DTSTART;TZID=America/New_York:20200319T112500
DTEND;TZID=America/New_York:20200319T115000
DTSTAMP:20260420T073832
CREATED:20200204T173530Z
LAST-MODIFIED:20200204T173530Z
UID:10001071-1584617100-1584618600@www.crosbyscholarsiredell.org
SUMMARY:West Iredell High School Crosby Club Meeting #3 - 10th Grade
DESCRIPTION:West Iredell High School 10th Grade Crosby Club Meeting #3 will be held on 3/19/2020 during A-SWAG from 11:25 am to 11:50 am in Room 128. Your Crosby Club Advisor is Mrs. Wegmiller.
URL:https://www.crosbyscholarsiredell.org/events/west-iredell-high-school-crosby-club-meeting-3-10th-grade/
LOCATION:NC
END:VEVENT
BEGIN:VEVENT
DTSTART;TZID=America/New_York:20200319T141500
DTEND;TZID=America/New_York:20200319T144500
DTSTAMP:20260420T073832
CREATED:20200204T175612Z
LAST-MODIFIED:20200204T175612Z
UID:10001077-1584627300-1584629100@www.crosbyscholarsiredell.org
SUMMARY:Pine Lake Prep Crosby Club Meeting #3 - 11th Grade
DESCRIPTION:Pine Lake Prep 11th Grade Crosby Club Meeting #3 will be held on 3/19/2020 from 2:15 pm to 2:45 pm to 2:45 pm in Room U125. Your Crosby Club Advisor is Ms. Montgomery.
URL:https://www.crosbyscholarsiredell.org/events/pine-lake-prep-crosby-club-meeting-3-11th-grade/
LOCATION:NC
END:VEVENT
BEGIN:VEVENT
DTSTART;TZID=America/New_York:20200319T141500
DTEND;TZID=America/New_York:20200319T144500
DTSTAMP:20260420T073832
CREATED:20200205T160723Z
LAST-MODIFIED:20200205T160723Z
UID:10001085-1584627300-1584629100@www.crosbyscholarsiredell.org
SUMMARY:Pine Lake Prep Crosby Club Meeting #3 - 11th Grade
DESCRIPTION:Pine Lake Prep 11th Grade Crosby Club Meeting #3 will be held on 3/19/2020 from 2:15 pm to 2:45 pm in Room U125.
URL:https://www.crosbyscholarsiredell.org/events/pine-lake-prep-crosby-club-meeting-3-11th-grade-2/
LOCATION:NC
END:VEVENT
BEGIN:VEVENT
DTSTART;TZID=America/New_York:20200319T142500
DTEND;TZID=America/New_York:20200319T150000
DTSTAMP:20260420T073832
CREATED:20200205T151020Z
LAST-MODIFIED:20200205T151020Z
UID:10001078-1584627900-1584630000@www.crosbyscholarsiredell.org
SUMMARY:CCTL Crosby Club Meeting #3 - 9th Grade
DESCRIPTION:CCTL 9th Grade Crosby Club Meeting #3 will be held on 3/19/2020 from 2:25 pm to 3 pm in Room VB 018.
URL:https://www.crosbyscholarsiredell.org/events/cctl-crosby-club-meeting-3-9th-grade/
LOCATION:NC
END:VEVENT
BEGIN:VEVENT
DTSTART;TZID=America/New_York:20200319T142500
DTEND;TZID=America/New_York:20200319T150000
DTSTAMP:20260420T073832
CREATED:20200205T151202Z
LAST-MODIFIED:20200205T151202Z
UID:10001079-1584627900-1584630000@www.crosbyscholarsiredell.org
SUMMARY:CCTL Crosby Club Meeting #3 - 10th Grade
DESCRIPTION:CCTL 10th Grade Crosby Club Meeting #3 will be held on 3/19/2020 from 2:25 pm to 3 pm in Room VB017.
URL:https://www.crosbyscholarsiredell.org/events/cctl-crosby-club-meeting-3-10th-grade/
LOCATION:NC
END:VEVENT
BEGIN:VEVENT
DTSTART;TZID=America/New_York:20200321T093000
DTEND;TZID=America/New_York:20200321T110000
DTSTAMP:20260420T073832
CREATED:20191121T145222Z
LAST-MODIFIED:20191121T145222Z
UID:10001006-1584783000-1584788400@www.crosbyscholarsiredell.org
SUMMARY:Think Like A Senior Meeting - LAST CHANCE - CROSBY OFFICE
DESCRIPTION:THIS WILL BE THE LAST AVAILABLE MEETING FOR CLASS OF 2021 — The Think Like a Senior Meeting is meant to introduce Juniors and their parents to the Crosby Scholars Senior Program requirements and services available to guide you through selecting a Senior Advisor.  During this meeting\, we will also review a checklist for activities you need to work on during the Spring and Summer prior to Senior Year. \nRegister in your Crosby Portal \nRemember to Select your Senior T-Shirt Size when you register. \nMeetings have been scheduled at each High School to make it convenient for students and parents.  You must attend one Think Like A Senior Meeting in order to participate in the Senior Program.  Parents are encouraged to attend.
URL:https://www.crosbyscholarsiredell.org/events/think-like-a-senior-meeting-last-chance-crosby-office/
LOCATION:Goodwill Career Connections Center\, 124 Fourth Crescent Place\, Statesville\, NC\, 28625\, United States
CATEGORIES:Rising Senior Meeting
ORGANIZER;CN="Iredell Crosby Scholars":MAILTO:info@crosbyscholarsiredell.org
END:VEVENT
END:VCALENDAR