BEGIN:VCALENDAR
VERSION:2.0
PRODID:-//Crosby Scholars Iredell - ECPv6.15.13.1//NONSGML v1.0//EN
CALSCALE:GREGORIAN
METHOD:PUBLISH
X-WR-CALNAME:Crosby Scholars Iredell
X-ORIGINAL-URL:https://www.crosbyscholarsiredell.org
X-WR-CALDESC:Events for Crosby Scholars Iredell
REFRESH-INTERVAL;VALUE=DURATION:PT1H
X-Robots-Tag:noindex
X-PUBLISHED-TTL:PT1H
BEGIN:VTIMEZONE
TZID:America/New_York
BEGIN:DAYLIGHT
TZOFFSETFROM:-0500
TZOFFSETTO:-0400
TZNAME:EDT
DTSTART:20230312T070000
END:DAYLIGHT
BEGIN:STANDARD
TZOFFSETFROM:-0400
TZOFFSETTO:-0500
TZNAME:EST
DTSTART:20231105T060000
END:STANDARD
BEGIN:DAYLIGHT
TZOFFSETFROM:-0500
TZOFFSETTO:-0400
TZNAME:EDT
DTSTART:20240310T070000
END:DAYLIGHT
BEGIN:STANDARD
TZOFFSETFROM:-0400
TZOFFSETTO:-0500
TZNAME:EST
DTSTART:20241103T060000
END:STANDARD
BEGIN:DAYLIGHT
TZOFFSETFROM:-0500
TZOFFSETTO:-0400
TZNAME:EDT
DTSTART:20250309T070000
END:DAYLIGHT
BEGIN:STANDARD
TZOFFSETFROM:-0400
TZOFFSETTO:-0500
TZNAME:EST
DTSTART:20251102T060000
END:STANDARD
END:VTIMEZONE
BEGIN:VEVENT
DTSTART;TZID=America/New_York:20240418T060000
DTEND;TZID=America/New_York:20240418T190000
DTSTAMP:20260421T145343
CREATED:20240411T195102Z
LAST-MODIFIED:20240411T195102Z
UID:10001550-1713420000-1713466800@www.crosbyscholarsiredell.org
SUMMARY:VOLUNTEER OPPORTUNITY - Boys and Girls Club PANCAKE DAY
DESCRIPTION:Pancake Day is Thursday\, April 18th from 6:00 AM until 7:00 PM. Various times and shifts are available for this event. Pancake Day will be held at the Statesville Civic Center\, located at 300 S. Center Street in downtown Statesville. \nSign up on the student portal.
URL:https://www.crosbyscholarsiredell.org/events/volunteer-opportunity-boys-and-girls-club-pancake-day/
LOCATION:Statesville Civic Center\, 300 S. Center Street\, Statesville\, NC\, 28677\, United States
END:VEVENT
BEGIN:VEVENT
DTSTART;TZID=America/New_York:20240420T100000
DTEND;TZID=America/New_York:20240420T140000
DTSTAMP:20260421T145343
CREATED:20240201T151750Z
LAST-MODIFIED:20240201T152842Z
UID:10001527-1713607200-1713621600@www.crosbyscholarsiredell.org
SUMMARY:Mitchell Community College Springfest - Explore Mitchell
DESCRIPTION:Explore academics\, student services and resources available to students at Mitchell Community College Statesville Campus.  There is also a Job Fair.  We will give Academy Credit to Crosby Scholars who attend.  Spring 2024 Open House Festival Registration Form (185r.net)
URL:https://www.crosbyscholarsiredell.org/events/mitchell-community-college-springfest-explore-mitchell/
LOCATION:Mitchell Community College Statesville Campus\, 500 West Broad Street\, Statesville\, NC\, 28677\, United States
END:VEVENT
BEGIN:VEVENT
DTSTART;TZID=America/New_York:20240421T130000
DTEND;TZID=America/New_York:20240421T180000
DTSTAMP:20260421T145343
CREATED:20240206T162339Z
LAST-MODIFIED:20240206T162428Z
UID:10001532-1713704400-1713722400@www.crosbyscholarsiredell.org
SUMMARY:VIRTUAL NACAC College Fair
DESCRIPTION:Registration is open for the Spring NACAC Virtual College Fairs. You and your students are invited to attend the first NACAC Virtual College Fair of the season on Sunday\, Feb. 18 from 1:00pm – 6:00pm ET. The virtual fair is a great opportunity to connect with hundreds of colleges and universities – all from the comfort of your own home. \nOur fairs feature College MatchMaking®. At the time of registration\, students will select the attributes that are most important to them in a college. They will receive an email that best matches them to specific colleges and universities based on the criteria they provided. We will also be hosting virtual fairs on Sunday\, March 24 and Sunday\, April 21 from 1:00pm – 6:00pm ET. \nAs a reminder\, these virtual fairs are free to attend.
URL:https://www.crosbyscholarsiredell.org/events/virtual-nacac-college-fair/2024-04-21/
END:VEVENT
BEGIN:VEVENT
DTSTART;TZID=America/New_York:20240423T173000
DTEND;TZID=America/New_York:20240423T193000
DTSTAMP:20260421T145343
CREATED:20240201T152123Z
LAST-MODIFIED:20240410T133639Z
UID:10001528-1713893400-1713900600@www.crosbyscholarsiredell.org
SUMMARY:Crosby Scholars Class of 2024 Senior Celebration
DESCRIPTION:Join us to celebrate the class of 2024.  Students who complete the program will receive their graduation cords and scholarships will be awarded at this event.
URL:https://www.crosbyscholarsiredell.org/events/crosby-scholars-class-of-2024-senior-celebration/
LOCATION:Statesville Civic Center\, 300 S. Center Street\, Statesville\, NC\, 28677\, United States
CATEGORIES:12th Grade,Senior Celebration,Special Event
ORGANIZER;CN="Iredell Crosby Scholars":MAILTO:info@crosbyscholarsiredell.org
END:VEVENT
BEGIN:VEVENT
DTSTART;TZID=America/New_York:20240504T070000
DTEND;TZID=America/New_York:20240504T100000
DTSTAMP:20260421T145343
CREATED:20240209T163608Z
LAST-MODIFIED:20240209T163609Z
UID:10001535-1714806000-1714816800@www.crosbyscholarsiredell.org
SUMMARY:COMMUNITY SERVICE - V-Point Ruritan Breakfast
DESCRIPTION:Help with the breakfast at V-Point Ruritan. Details in the student portal.
URL:https://www.crosbyscholarsiredell.org/events/community-service-v-point-ruritan-breakfast-2-2-3/
LOCATION:V-Point Ruritan Club\, 2794 Old Mocksville Road\, Statesville\, NC\, United States
CATEGORIES:10th Grade,11th Grade,12th Grade,6th Grade,7th Grade,8th Grade,9th Grade,Community Service
END:VEVENT
BEGIN:VEVENT
DTSTART;TZID=America/New_York:20240516T190000
DTEND;TZID=America/New_York:20240516T200000
DTSTAMP:20260421T145343
CREATED:20231013T191905Z
LAST-MODIFIED:20231013T192010Z
UID:10001502-1715886000-1715889600@www.crosbyscholarsiredell.org
SUMMARY:Free Parent Webinar
DESCRIPTION:Sign up on this Google Form to receive a zoom link. https://forms.gle/MKiHThNMPa68q1k87
URL:https://www.crosbyscholarsiredell.org/events/free-parent-webinar/2024-05-16/
CATEGORIES:Parent Academy,Parents
END:VEVENT
BEGIN:VEVENT
DTSTART;TZID=America/New_York:20240518T060000
DTEND;TZID=America/New_York:20240518T180000
DTSTAMP:20260421T145343
CREATED:20240412T192521Z
LAST-MODIFIED:20240412T192521Z
UID:10001551-1716012000-1716055200@www.crosbyscholarsiredell.org
SUMMARY:VOLUNTEER OPPORTUNITY - Iredell Health System Family Fun Day
DESCRIPTION:NOTE: Numerous volunteer opportunities are available at several different times. \nPlease join Grill4God Ministries as we serve our famous grilled chicken to the Frontline employees and their families at the Iredell Health System Family Fun Day.  This event will be held on Saturday\, May 18\, 2024 at the Iredell County Fairgrounds\, in Troutman.  (Rain date is Sunday\, May 19\, 2024)  Help us to serve those who selflessly serve our community. \nTo volunteer please click here.
URL:https://www.crosbyscholarsiredell.org/events/volunteer-opportunity-iredell-health-system-family-fun-day/
LOCATION:Iredell County Fairgrounds
END:VEVENT
BEGIN:VEVENT
DTSTART;TZID=America/New_York:20240527T080000
DTEND;TZID=America/New_York:20240527T170000
DTSTAMP:20260421T145343
CREATED:20240209T163859Z
LAST-MODIFIED:20240209T163859Z
UID:10001540-1716796800-1716829200@www.crosbyscholarsiredell.org
SUMMARY:Office Closed Memorial Day
DESCRIPTION:
URL:https://www.crosbyscholarsiredell.org/events/office-closed-memorial-day/
END:VEVENT
BEGIN:VEVENT
DTSTART;TZID=America/New_York:20240601T070000
DTEND;TZID=America/New_York:20240601T100000
DTSTAMP:20260421T145343
CREATED:20240209T163425Z
LAST-MODIFIED:20240209T163425Z
UID:10001538-1717225200-1717236000@www.crosbyscholarsiredell.org
SUMMARY:COMMUNITY SERVICE - V-Point Ruritan Breakfast
DESCRIPTION:Help with the breakfast at V-Point Ruritan. Details in the student portal.
URL:https://www.crosbyscholarsiredell.org/events/community-service-v-point-ruritan-breakfast-2-2-2/2024-06-01/
LOCATION:V-Point Ruritan Club\, 2794 Old Mocksville Road\, Statesville\, NC\, United States
CATEGORIES:10th Grade,11th Grade,12th Grade,6th Grade,7th Grade,8th Grade,9th Grade,Community Service
END:VEVENT
END:VCALENDAR