BEGIN:VCALENDAR
VERSION:2.0
PRODID:-//Crosby Scholars Iredell - ECPv6.15.13.1//NONSGML v1.0//EN
CALSCALE:GREGORIAN
METHOD:PUBLISH
X-WR-CALNAME:Crosby Scholars Iredell
X-ORIGINAL-URL:https://www.crosbyscholarsiredell.org
X-WR-CALDESC:Events for Crosby Scholars Iredell
REFRESH-INTERVAL;VALUE=DURATION:PT1H
X-Robots-Tag:noindex
X-PUBLISHED-TTL:PT1H
BEGIN:VTIMEZONE
TZID:America/New_York
BEGIN:DAYLIGHT
TZOFFSETFROM:-0500
TZOFFSETTO:-0400
TZNAME:EDT
DTSTART:20220313T070000
END:DAYLIGHT
BEGIN:STANDARD
TZOFFSETFROM:-0400
TZOFFSETTO:-0500
TZNAME:EST
DTSTART:20221106T060000
END:STANDARD
BEGIN:DAYLIGHT
TZOFFSETFROM:-0500
TZOFFSETTO:-0400
TZNAME:EDT
DTSTART:20230312T070000
END:DAYLIGHT
BEGIN:STANDARD
TZOFFSETFROM:-0400
TZOFFSETTO:-0500
TZNAME:EST
DTSTART:20231105T060000
END:STANDARD
BEGIN:DAYLIGHT
TZOFFSETFROM:-0500
TZOFFSETTO:-0400
TZNAME:EDT
DTSTART:20240310T070000
END:DAYLIGHT
BEGIN:STANDARD
TZOFFSETFROM:-0400
TZOFFSETTO:-0500
TZNAME:EST
DTSTART:20241103T060000
END:STANDARD
END:VTIMEZONE
BEGIN:VEVENT
DTSTART;TZID=America/New_York:20230509T190000
DTEND;TZID=America/New_York:20230509T200000
DTSTAMP:20260421T214856
CREATED:20230509T133020Z
LAST-MODIFIED:20230509T133314Z
UID:10001446-1683658800-1683662400@www.crosbyscholarsiredell.org
SUMMARY:Grades 8/9/10 Zoom Academy
DESCRIPTION:Communication–What does your body language say about you? Register in your portal! Contact jchristian@crosbyscholarsiredell.org for more info.
URL:https://www.crosbyscholarsiredell.org/events/grades-8-9-10-zoom-academy/
LOCATION:Online\, NC\, United States
CATEGORIES:10th Grade,8th Grade,9th & 10th Grade Academy,9th Grade,Academy,Online Academy
ORGANIZER;CN="Iredell Crosby Scholars":MAILTO:info@crosbyscholarsiredell.org
END:VEVENT
BEGIN:VEVENT
DTSTART;TZID=America/New_York:20230523T173000
DTEND;TZID=America/New_York:20230523T190000
DTSTAMP:20260421T214856
CREATED:20230405T174213Z
LAST-MODIFIED:20230405T174213Z
UID:10001444-1684863000-1684868400@www.crosbyscholarsiredell.org
SUMMARY:COMMUNITY SERVICE @ The Longest Table
DESCRIPTION:Help at the Kid Zone! Games\, bouncy houses\, face painting helpers needed! Wear your Crosby tees! Register in the portal.
URL:https://www.crosbyscholarsiredell.org/events/community-service-the-longest-table/
LOCATION:Statesville High School\, 474 N Center St\, Statesville\, NC\, 28677\, United States
CATEGORIES:10th Grade,11th Grade,12th Grade,6th Grade,7th Grade,8th Grade,9th Grade,Community Service
END:VEVENT
BEGIN:VEVENT
DTSTART;TZID=America/New_York:20230525T173000
DTEND;TZID=America/New_York:20230525T190000
DTSTAMP:20260421T214856
CREATED:20230405T175038Z
LAST-MODIFIED:20230405T174817Z
UID:10001445-1685035800-1685041200@www.crosbyscholarsiredell.org
SUMMARY:RAIN DATE COMMUNITY SERVICE @ The Longest Table
DESCRIPTION:Help at the Kid Zone! Games\, bouncy houses\, face painting helpers needed! Wear your Crosby tees! Register in the portal.
URL:https://www.crosbyscholarsiredell.org/events/community-service-the-longest-table-copy/
LOCATION:Statesville High School\, 474 N Center St\, Statesville\, NC\, 28677\, United States
CATEGORIES:10th Grade,11th Grade,12th Grade,6th Grade,7th Grade,8th Grade,9th Grade,Community Service
END:VEVENT
BEGIN:VEVENT
DTSTART;VALUE=DATE:20230529
DTEND;VALUE=DATE:20230530
DTSTAMP:20260421T214856
CREATED:20220721T191721Z
LAST-MODIFIED:20220721T191721Z
UID:10001399-1685318400-1685404799@www.crosbyscholarsiredell.org
SUMMARY:Offices Closed Memorial Day
DESCRIPTION:
URL:https://www.crosbyscholarsiredell.org/events/offices-closed-memorial-day/
END:VEVENT
BEGIN:VEVENT
DTSTART;TZID=America/New_York:20230530T180000
DTEND;TZID=America/New_York:20230530T190000
DTSTAMP:20260421T214857
CREATED:20230518T182230Z
LAST-MODIFIED:20230518T182230Z
UID:10001462-1685469600-1685473200@www.crosbyscholarsiredell.org
SUMMARY:Virtual Community Service Summit (Academy Credit offered!)
DESCRIPTION:Virtual event where students will be able to complete their community service requirements during the Zoom call. Any students hoping to participate in any special events or retain their “active” status in Crosby Scholars must have their requirements met by April 30\, 2023.
URL:https://www.crosbyscholarsiredell.org/events/virtual-community-service-summit-academy-credit-offered/
CATEGORIES:10th Grade,11th Grade,12th Grade,6th Grade,6th Grade Academy,7th & 8th Grade Academy,7th Grade,8th Grade,9th & 10th Grade Academy,9th Grade,Academy,Junior Academy,Senior Academy
ORGANIZER;CN="Crosby Scholars":MAILTO:info@crosbyscholarsiredell.org
END:VEVENT
BEGIN:VEVENT
DTSTART;TZID=America/New_York:20230603T070000
DTEND;TZID=America/New_York:20230603T100000
DTSTAMP:20260421T214857
CREATED:20230515T140512Z
LAST-MODIFIED:20230515T140512Z
UID:10001447-1685775600-1685786400@www.crosbyscholarsiredell.org
SUMMARY:COMMUNITY SERVICE - V-POINT RURITAN BREAKFAST
DESCRIPTION:Help serve food and clear tables at this monthly event at the V Point Ruritan Club. Register in your student/parent portal.
URL:https://www.crosbyscholarsiredell.org/events/community-service-v-point-ruritan-breakfast/
LOCATION:V-Point Ruritan Club\, 2794 Old Mocksville Road\, Statesville\, NC\, United States
CATEGORIES:10th Grade,11th Grade,12th Grade,6th Grade,7th Grade,8th Grade,9th Grade,Community Service
END:VEVENT
BEGIN:VEVENT
DTSTART;TZID=America/New_York:20230613T100000
DTEND;TZID=America/New_York:20230613T123000
DTSTAMP:20260421T214857
CREATED:20230323T143744Z
LAST-MODIFIED:20230608T210128Z
UID:10001433-1686650400-1686659400@www.crosbyscholarsiredell.org
SUMMARY:Try It Tuesday - Aviation
DESCRIPTION:
URL:https://www.crosbyscholarsiredell.org/events/try-it-tuesday-aviation/
LOCATION:Victory Air\, NC\, 28677
CATEGORIES:10th Grade,11th Grade,12th Grade,9th & 10th Grade Academy,9th Grade,Junior Academy,Senior Academy,Special Event
ORGANIZER;CN="Iredell Crosby Scholars":MAILTO:info@crosbyscholarsiredell.org
END:VEVENT
BEGIN:VEVENT
DTSTART;TZID=America/New_York:20230614T090000
DTEND;TZID=America/New_York:20230614T120000
DTSTAMP:20260421T214857
CREATED:20230328T162331Z
LAST-MODIFIED:20230328T162331Z
UID:10001443-1686733200-1686744000@www.crosbyscholarsiredell.org
SUMMARY:Legacy Day June 14\, 2023
DESCRIPTION:For the 3rd year in a row we are hosting a day where younger siblings of current Crosby Scholars can jumpstart their Crosby Scholars Membership.  Register Early\, Free T-Shirt\, Complete Academy and Service in one day.  Sign up today.  Space is limited. \nhttps://forms.gle/dztVAf236M5fWYAi6
URL:https://www.crosbyscholarsiredell.org/events/legacy-day-june-14-2023/
LOCATION:Goodwill Career Connections Center\, 124 Fourth Crescent Place\, Statesville\, NC\, 28625\, United States
CATEGORIES:10th Grade,11th Grade,12th Grade,6th Grade,7th Grade,8th Grade,9th Grade,Academy,Community Service,Legacy Day
ORGANIZER;CN="Crosby Scholars":MAILTO:info@crosbyscholarsiredell.org
END:VEVENT
BEGIN:VEVENT
DTSTART;TZID=America/New_York:20230617T110000
DTEND;TZID=America/New_York:20230617T180000
DTSTAMP:20260421T214857
CREATED:20230515T141310Z
LAST-MODIFIED:20230515T141310Z
UID:10001448-1686999600-1687024800@www.crosbyscholarsiredell.org
SUMMARY:VOLUNTEER with CROSBY SCHOLARS Juneteenth Celebration Downtown Statesville
DESCRIPTION:Crosby Scholars will be at the event! Volunteer with us at our tent in 2-hour shifts. Let people know about the Crosby Scholars program! Location: West Broad Street in front of MCC. Register in your student/parent portal.
URL:https://www.crosbyscholarsiredell.org/events/volunteer-with-crosby-scholars-juneteenth-celebration-downtown-statesville/
LOCATION:Downtown Statesville
CATEGORIES:10th Grade,11th Grade,12th Grade,6th Grade,7th Grade,8th Grade,9th Grade,Community Service
END:VEVENT
END:VCALENDAR