BEGIN:VCALENDAR
VERSION:2.0
PRODID:-//Crosby Scholars Iredell - ECPv6.15.13.1//NONSGML v1.0//EN
CALSCALE:GREGORIAN
METHOD:PUBLISH
X-WR-CALNAME:Crosby Scholars Iredell
X-ORIGINAL-URL:https://www.crosbyscholarsiredell.org
X-WR-CALDESC:Events for Crosby Scholars Iredell
REFRESH-INTERVAL;VALUE=DURATION:PT1H
X-Robots-Tag:noindex
X-PUBLISHED-TTL:PT1H
BEGIN:VTIMEZONE
TZID:America/New_York
BEGIN:DAYLIGHT
TZOFFSETFROM:-0500
TZOFFSETTO:-0400
TZNAME:EDT
DTSTART:20210314T070000
END:DAYLIGHT
BEGIN:STANDARD
TZOFFSETFROM:-0400
TZOFFSETTO:-0500
TZNAME:EST
DTSTART:20211107T060000
END:STANDARD
BEGIN:DAYLIGHT
TZOFFSETFROM:-0500
TZOFFSETTO:-0400
TZNAME:EDT
DTSTART:20220313T070000
END:DAYLIGHT
BEGIN:STANDARD
TZOFFSETFROM:-0400
TZOFFSETTO:-0500
TZNAME:EST
DTSTART:20221106T060000
END:STANDARD
BEGIN:DAYLIGHT
TZOFFSETFROM:-0500
TZOFFSETTO:-0400
TZNAME:EDT
DTSTART:20230312T070000
END:DAYLIGHT
BEGIN:STANDARD
TZOFFSETFROM:-0400
TZOFFSETTO:-0500
TZNAME:EST
DTSTART:20231105T060000
END:STANDARD
BEGIN:DAYLIGHT
TZOFFSETFROM:-0500
TZOFFSETTO:-0400
TZNAME:EDT
DTSTART:20240310T070000
END:DAYLIGHT
BEGIN:STANDARD
TZOFFSETFROM:-0400
TZOFFSETTO:-0500
TZNAME:EST
DTSTART:20241103T060000
END:STANDARD
END:VTIMEZONE
BEGIN:VEVENT
DTSTART;TZID=America/New_York:20221103T190000
DTEND;TZID=America/New_York:20221103T200000
DTSTAMP:20260421T194011
CREATED:20221013T165054Z
LAST-MODIFIED:20221027T172836Z
UID:10001420-1667502000-1667505600@www.crosbyscholarsiredell.org
SUMMARY:Pathways to Healthcare - Conversation with Cabarrus College Health Sciences
DESCRIPTION:Join us for a zoom call with admissions and speakers from Cabarrus College Health Sciences.  Learn about multiple pathways to work in healthcare.  Also learn about funding that is available.
URL:https://www.crosbyscholarsiredell.org/events/pathways-to-healthcare-conversation-with-cabarrus-college-health-sciences/
CATEGORIES:10th Grade,11th Grade,12th Grade,9th Grade,Academy,Online Academy
END:VEVENT
BEGIN:VEVENT
DTSTART;VALUE=DATE:20221106
DTEND;VALUE=DATE:20221107
DTSTAMP:20260421T194011
CREATED:20221005T223059Z
LAST-MODIFIED:20221005T223127Z
UID:10001415-1667692800-1667779199@www.crosbyscholarsiredell.org
SUMMARY:Daylight Savings Time Ends
DESCRIPTION:Check those clocks and “fall back” one hour!
URL:https://www.crosbyscholarsiredell.org/events/daylight-savings-time-ends/
END:VEVENT
BEGIN:VEVENT
DTSTART;VALUE=DATE:20221108
DTEND;VALUE=DATE:20221109
DTSTAMP:20260421T194011
CREATED:20221005T222852Z
LAST-MODIFIED:20221005T222852Z
UID:10001414-1667865600-1667951999@www.crosbyscholarsiredell.org
SUMMARY:ELECTION DAY!
DESCRIPTION:Your Vote Matters!
URL:https://www.crosbyscholarsiredell.org/events/election-day-2/
END:VEVENT
BEGIN:VEVENT
DTSTART;TZID=America/New_York:20221114T190000
DTEND;TZID=America/New_York:20221114T200000
DTSTAMP:20260421T194011
CREATED:20221005T222714Z
LAST-MODIFIED:20221005T222714Z
UID:10001413-1668452400-1668456000@www.crosbyscholarsiredell.org
SUMMARY:9th/10th Grade "Tips to Land Your 1st J-O-B!" Zoom Academy 7pm
DESCRIPTION:Join this Zoom/Virtual Academy for a fun peak in to how to land your 1st Job!  Whether you are looking for a part-time job in High School\, something over the summer\, or more\, these tips will help grow your confidence before that first job application or interview.   REGISTER ON STUDENT/PARENT PORTAL TO RECEIVE ZOOM LINK!
URL:https://www.crosbyscholarsiredell.org/events/9th-10th-grade-tips-to-land-your-1st-j-o-b-zoom-academy-7pm/
CATEGORIES:10th Grade,9th Grade
END:VEVENT
BEGIN:VEVENT
DTSTART;TZID=America/New_York:20221117T180000
DTEND;TZID=America/New_York:20221117T190000
DTSTAMP:20260421T194011
CREATED:20221005T223350Z
LAST-MODIFIED:20221005T223350Z
UID:10001416-1668708000-1668711600@www.crosbyscholarsiredell.org
SUMMARY:9th/10th Grade ZOOM- Virtual ACADEMY: Communication!  What does your body language say about you?!  6pm
DESCRIPTION:9th/10th Grade ZOOM- Virtual ACADEMY: Communication! What does your body language say about you?! November 17th 6pm-7pm  REGISTER VIA STUDENT/PARENT PORTAL FOR ZOOM LINK!
URL:https://www.crosbyscholarsiredell.org/events/9th-10th-grade-zoom-virtual-academy-communication-what-does-your-body-language-say-about-you-6pm/
CATEGORIES:10th Grade,9th Grade
END:VEVENT
BEGIN:VEVENT
DTSTART;VALUE=DATE:20221124
DTEND;VALUE=DATE:20221125
DTSTAMP:20260421T194011
CREATED:20220721T191127Z
LAST-MODIFIED:20220721T191127Z
UID:10001394-1669248000-1669334399@www.crosbyscholarsiredell.org
SUMMARY:Offices Closed Thanksgiving
DESCRIPTION:
URL:https://www.crosbyscholarsiredell.org/events/offices-closed-thanksgiving/
END:VEVENT
BEGIN:VEVENT
DTSTART;TZID=America/New_York:20221206T190000
DTEND;TZID=America/New_York:20221206T200000
DTSTAMP:20260421T194011
CREATED:20220927T213148Z
LAST-MODIFIED:20220927T213153Z
UID:10001408-1670353200-1670356800@www.crosbyscholarsiredell.org
SUMMARY:Jr/Sr Academy - Tips for College Success - Zoom with Elliot Felix
DESCRIPTION:Now that you have applied and are waiting to here about acceptance\, it is time to think about how to get the most of your college expereince.  It’s not just about getting in.  We will share tips for getting the most of your college expereince.  Understanding these tips will help you make sure you are selecting the correct school for you. \nZoom link will be shared.  Guest Speaker Elliot Felix.  Also\, free copies of the books will be made available to students who register for this session.  Be sure to answer the question in the registration to receive your free e-book version.
URL:https://www.crosbyscholarsiredell.org/events/jr-sr-academy-tips-for-college-success-zoom-with-elliot-felix/
CATEGORIES:Junior Academy,Senior Academy
END:VEVENT
BEGIN:VEVENT
DTSTART;VALUE=DATE:20221226
DTEND;VALUE=DATE:20221227
DTSTAMP:20260421T194011
CREATED:20220721T191209Z
LAST-MODIFIED:20220721T191209Z
UID:10001395-1672012800-1672099199@www.crosbyscholarsiredell.org
SUMMARY:Offices Closed Christmas
DESCRIPTION:
URL:https://www.crosbyscholarsiredell.org/events/offices-closed-christmas/
END:VEVENT
BEGIN:VEVENT
DTSTART;VALUE=DATE:20230102
DTEND;VALUE=DATE:20230103
DTSTAMP:20260421T194011
CREATED:20220721T191258Z
LAST-MODIFIED:20220721T191258Z
UID:10001396-1672617600-1672703999@www.crosbyscholarsiredell.org
SUMMARY:Offices Closed New Year's
DESCRIPTION:
URL:https://www.crosbyscholarsiredell.org/events/offices-closed-new-years/
END:VEVENT
END:VCALENDAR