BEGIN:VCALENDAR
VERSION:2.0
PRODID:-//Crosby Scholars Iredell - ECPv6.15.13.1//NONSGML v1.0//EN
CALSCALE:GREGORIAN
METHOD:PUBLISH
X-WR-CALNAME:Crosby Scholars Iredell
X-ORIGINAL-URL:https://www.crosbyscholarsiredell.org
X-WR-CALDESC:Events for Crosby Scholars Iredell
REFRESH-INTERVAL;VALUE=DURATION:PT1H
X-Robots-Tag:noindex
X-PUBLISHED-TTL:PT1H
BEGIN:VTIMEZONE
TZID:America/New_York
BEGIN:DAYLIGHT
TZOFFSETFROM:-0500
TZOFFSETTO:-0400
TZNAME:EDT
DTSTART:20210314T070000
END:DAYLIGHT
BEGIN:STANDARD
TZOFFSETFROM:-0400
TZOFFSETTO:-0500
TZNAME:EST
DTSTART:20211107T060000
END:STANDARD
BEGIN:DAYLIGHT
TZOFFSETFROM:-0500
TZOFFSETTO:-0400
TZNAME:EDT
DTSTART:20220313T070000
END:DAYLIGHT
BEGIN:STANDARD
TZOFFSETFROM:-0400
TZOFFSETTO:-0500
TZNAME:EST
DTSTART:20221106T060000
END:STANDARD
BEGIN:DAYLIGHT
TZOFFSETFROM:-0500
TZOFFSETTO:-0400
TZNAME:EDT
DTSTART:20230312T070000
END:DAYLIGHT
BEGIN:STANDARD
TZOFFSETFROM:-0400
TZOFFSETTO:-0500
TZNAME:EST
DTSTART:20231105T060000
END:STANDARD
END:VTIMEZONE
BEGIN:VEVENT
DTSTART;TZID=America/New_York:20220628T090000
DTEND;TZID=America/New_York:20220628T120000
DTSTAMP:20260422T011235
CREATED:20220503T233937Z
LAST-MODIFIED:20220503T233937Z
UID:10001383-1656406800-1656417600@www.crosbyscholarsiredell.org
SUMMARY:YouScience Career Exploration Workshop
DESCRIPTION:
URL:https://www.crosbyscholarsiredell.org/events/youscience-career-exploration-workshop/
LOCATION:Goodwill Career Connections Center\, 124 Fourth Crescent Place\, Statesville\, NC\, 28625\, United States
CATEGORIES:Junior Academy,Senior Academy
END:VEVENT
BEGIN:VEVENT
DTSTART;TZID=America/New_York:20220628T130000
DTEND;TZID=America/New_York:20220628T160000
DTSTAMP:20260422T011235
CREATED:20220420T200351Z
LAST-MODIFIED:20220603T140857Z
UID:10001369-1656421200-1656432000@www.crosbyscholarsiredell.org
SUMMARY:Culinary Try It Tuesday
DESCRIPTION:Register in your student portal!
URL:https://www.crosbyscholarsiredell.org/events/culinary-try-it-tuesday/
CATEGORIES:9th & 10th Grade Academy,Junior Academy,Senior Academy
ORGANIZER;CN="Iredell Crosby Scholars":MAILTO:info@crosbyscholarsiredell.org
END:VEVENT
BEGIN:VEVENT
DTSTART;VALUE=DATE:20220704
DTEND;VALUE=DATE:20220705
DTSTAMP:20260422T011235
CREATED:20220420T201337Z
LAST-MODIFIED:20220420T201337Z
UID:10001373-1656892800-1656979199@www.crosbyscholarsiredell.org
SUMMARY:Holiday-Crosby Office Closed
DESCRIPTION:Happy Independence Day!
URL:https://www.crosbyscholarsiredell.org/events/holiday-crosby-office-closed/
END:VEVENT
BEGIN:VEVENT
DTSTART;TZID=America/New_York:20220712T090000
DTEND;TZID=America/New_York:20220712T130000
DTSTAMP:20260422T011235
CREATED:20220420T200611Z
LAST-MODIFIED:20220420T200611Z
UID:10001370-1657616400-1657630800@www.crosbyscholarsiredell.org
SUMMARY:Public Safety Try It Tuesday
DESCRIPTION:Register in your student portal!
URL:https://www.crosbyscholarsiredell.org/events/public-safety-try-it-tuesday/
LOCATION:Mitchell Community College Statesville Campus\, 500 West Broad Street\, Statesville\, NC\, 28677\, United States
CATEGORIES:9th & 10th Grade Academy,Junior Academy,Senior Academy,Special Event
ORGANIZER;CN="Iredell Crosby Scholars":MAILTO:info@crosbyscholarsiredell.org
END:VEVENT
BEGIN:VEVENT
DTSTART;TZID=America/New_York:20220716T080000
DTEND;TZID=America/New_York:20220716T120000
DTSTAMP:20260422T011235
CREATED:20220531T172605Z
LAST-MODIFIED:20220531T172605Z
UID:10001389-1657958400-1657972800@www.crosbyscholarsiredell.org
SUMMARY:Volunteer Opportunity --- Back 2 School Bash Mooresville
DESCRIPTION:Need Volunteer hours this summer\, volunteer at the Back 2 School Bash in Mooresville on July 16\, 2022 from 8:30am – 12 noon.  You must register to volunteer on their website.  Back 2 School Bash (b2sb.org) \nPlease wear your Crosby Scholars T-shirt when volunteering.  We will also be handing out flyers inviting Middle and high school students to join Crosby Scholars.
URL:https://www.crosbyscholarsiredell.org/events/volunteer-opportunity-back-2-school-bash-mooresville/
CATEGORIES:Community Service
END:VEVENT
BEGIN:VEVENT
DTSTART;TZID=America/New_York:20220719T090000
DTEND;TZID=America/New_York:20220719T130000
DTSTAMP:20260422T011235
CREATED:20220420T200757Z
LAST-MODIFIED:20220420T200757Z
UID:10001371-1658221200-1658235600@www.crosbyscholarsiredell.org
SUMMARY:Career & Leadership Try It Tuesday
DESCRIPTION:Register in your student portal!
URL:https://www.crosbyscholarsiredell.org/events/career-leadership-try-it-tuesday/
LOCATION:Mitchell Community College Statesville Campus\, 500 West Broad Street\, Statesville\, NC\, 28677\, United States
CATEGORIES:9th & 10th Grade Academy,Junior Academy,Senior Academy,Special Event
END:VEVENT
BEGIN:VEVENT
DTSTART;TZID=America/New_York:20220720T090000
DTEND;TZID=America/New_York:20220720T130000
DTSTAMP:20260422T011235
CREATED:20220503T232611Z
LAST-MODIFIED:20220503T232611Z
UID:10001381-1658307600-1658322000@www.crosbyscholarsiredell.org
SUMMARY:Test Prep Academy
DESCRIPTION:
URL:https://www.crosbyscholarsiredell.org/events/test-prep-academy/
LOCATION:Goodwill Career Connections Center\, 124 Fourth Crescent Place\, Statesville\, NC\, 28625\, United States
CATEGORIES:Junior Academy,Senior Academy
END:VEVENT
BEGIN:VEVENT
DTSTART;TZID=America/New_York:20220726T090000
DTEND;TZID=America/New_York:20220726T130000
DTSTAMP:20260422T011235
CREATED:20220420T201103Z
LAST-MODIFIED:20220420T201103Z
UID:10001372-1658826000-1658840400@www.crosbyscholarsiredell.org
SUMMARY:Business/Engineering/Manufacturing Try It Tuesday
DESCRIPTION:Register in your student portal!
URL:https://www.crosbyscholarsiredell.org/events/business-engineering-manufacturing-try-it-tuesday/
LOCATION:Goodyear Tire & Rubber Company Statesville Mold Plant\, 108 Business Park Drive\, Statesville\, NC
CATEGORIES:9th & 10th Grade Academy,Junior Academy,Senior Academy,Special Event
END:VEVENT
BEGIN:VEVENT
DTSTART;TZID=America/New_York:20220727T090000
DTEND;TZID=America/New_York:20220727T120000
DTSTAMP:20260422T011235
CREATED:20220503T232456Z
LAST-MODIFIED:20220503T232456Z
UID:10001380-1658912400-1658923200@www.crosbyscholarsiredell.org
SUMMARY:Essay Workshop
DESCRIPTION:Class of 2023 – Time to write that personal statement\, common app essay and prepare for all of those college supplemental essays.  This is the workshop you need to attend.
URL:https://www.crosbyscholarsiredell.org/events/essay-workshop/
LOCATION:Goodwill Career Connections Center\, 124 Fourth Crescent Place\, Statesville\, NC\, 28625\, United States
CATEGORIES:Junior Academy,Senior Academy
END:VEVENT
BEGIN:VEVENT
DTSTART;TZID=America/New_York:20220728T100000
DTEND;TZID=America/New_York:20220728T120000
DTSTAMP:20260422T011235
CREATED:20220503T232325Z
LAST-MODIFIED:20220503T232325Z
UID:10001379-1659002400-1659009600@www.crosbyscholarsiredell.org
SUMMARY:College Applications 101
DESCRIPTION:Let us help you plan for and complete your college applications with less stress and more success.  Learn tips to plan\, stay organized and track your progress.
URL:https://www.crosbyscholarsiredell.org/events/college-applications-101/
LOCATION:Goodwill Career Connections Center\, 124 Fourth Crescent Place\, Statesville\, NC\, 28625\, United States
CATEGORIES:Senior Academy
END:VEVENT
BEGIN:VEVENT
DTSTART;TZID=America/New_York:20220803T100000
DTEND;TZID=America/New_York:20220803T120000
DTSTAMP:20260422T011235
CREATED:20220503T232044Z
LAST-MODIFIED:20220503T232044Z
UID:10001378-1659520800-1659528000@www.crosbyscholarsiredell.org
SUMMARY:Common App Workshop
DESCRIPTION:
URL:https://www.crosbyscholarsiredell.org/events/common-app-workshop/
LOCATION:Goodwill Career Connections Center\, 124 Fourth Crescent Place\, Statesville\, NC\, 28625\, United States
CATEGORIES:Senior Academy
END:VEVENT
BEGIN:VEVENT
DTSTART;TZID=America/New_York:20220816T100000
DTEND;TZID=America/New_York:20220816T120000
DTSTAMP:20260422T011235
CREATED:20220503T235040Z
LAST-MODIFIED:20220503T235040Z
UID:10001386-1660644000-1660651200@www.crosbyscholarsiredell.org
SUMMARY:Class of 2024 Crosby Orientation - In Person
DESCRIPTION:Class of 2024 – This is your opportunity to learn about the Crosby Scholars Junior/Senior Program.  We will cover resources\, requirements and answer questions about how to get the most of your last 2 years in Crosby Scholars and High School.  Let start the new year right!
URL:https://www.crosbyscholarsiredell.org/events/class-of-2024-crosby-orientation-in-person/
CATEGORIES:Rising Senior Meeting,Special Event
END:VEVENT
BEGIN:VEVENT
DTSTART;TZID=America/New_York:20220820T100000
DTEND;TZID=America/New_York:20220820T130000
DTSTAMP:20260422T011235
CREATED:20220420T201701Z
LAST-MODIFIED:20220815T202040Z
UID:10001376-1660989600-1661000400@www.crosbyscholarsiredell.org
SUMMARY:Iredell Crosby Scholars Open House
DESCRIPTION:New or prospective Crosby Scholars! Meet staff and learn about the program. Prizes and giveaways!
URL:https://www.crosbyscholarsiredell.org/events/iredell-crosby-scholars-open-house/
LOCATION:Unity Center\, 1145 Salisbury Road\, Statesville\, NC\, 28677\, United States
CATEGORIES:Special Event
ORGANIZER;CN="Iredell Crosby Scholars":MAILTO:info@crosbyscholarsiredell.org
END:VEVENT
BEGIN:VEVENT
DTSTART;VALUE=DATE:20220824
DTEND;VALUE=DATE:20220826
DTSTAMP:20260422T011235
CREATED:20220822T134832Z
LAST-MODIFIED:20220822T134832Z
UID:10001403-1661299200-1661471999@www.crosbyscholarsiredell.org
SUMMARY:Back to School Open Houses
DESCRIPTION:Look for our table at your school’s Open House!
URL:https://www.crosbyscholarsiredell.org/events/back-to-school-open-houses/
END:VEVENT
BEGIN:VEVENT
DTSTART;TZID=America/New_York:20220825T200000
DTEND;TZID=America/New_York:20220825T210000
DTSTAMP:20260422T011235
CREATED:20220824T131526Z
LAST-MODIFIED:20220824T131526Z
UID:10001404-1661457600-1661461200@www.crosbyscholarsiredell.org
SUMMARY:"Hello\, High School!" Freshman Academy 8pm-9pm
DESCRIPTION:Register for this Academy via your Portal or e-mail Crosby for more details
URL:https://www.crosbyscholarsiredell.org/events/hello-high-school-freshman-academy-8pm-9pm/
END:VEVENT
BEGIN:VEVENT
DTSTART;VALUE=DATE:20220905
DTEND;VALUE=DATE:20220906
DTSTAMP:20260422T011235
CREATED:20220721T191048Z
LAST-MODIFIED:20220721T191048Z
UID:10001393-1662336000-1662422399@www.crosbyscholarsiredell.org
SUMMARY:Offices Closed Labor Day
DESCRIPTION:
URL:https://www.crosbyscholarsiredell.org/events/offices-closed-labor-day/
END:VEVENT
BEGIN:VEVENT
DTSTART;TZID=America/New_York:20220907T180000
DTEND;TZID=America/New_York:20220907T190000
DTSTAMP:20260422T011235
CREATED:20220824T132040Z
LAST-MODIFIED:20220824T132040Z
UID:10001405-1662573600-1662577200@www.crosbyscholarsiredell.org
SUMMARY:"Hello\, High School!" Freshman Zoom Academy
DESCRIPTION:Check out what High School is all about!  Join us for this Freshman Zoom Academy.  Register through your Crosby portal.  Questions?  jchristian@crosbyscholarsiredell.com
URL:https://www.crosbyscholarsiredell.org/events/hello-high-school-freshman-zoom-academy/
CATEGORIES:Academy
END:VEVENT
BEGIN:VEVENT
DTSTART;TZID=America/New_York:20220910T190000
DTEND;TZID=America/New_York:20220910T220000
DTSTAMP:20260422T011235
CREATED:20220420T201602Z
LAST-MODIFIED:20220420T201602Z
UID:10001375-1662836400-1662847200@www.crosbyscholarsiredell.org
SUMMARY:Blue Jeans\, Beats & Bling Fundraiser
DESCRIPTION:More details coming soon! Save the date!
URL:https://www.crosbyscholarsiredell.org/events/blue-jeans-beats-bling-fundraiser/
LOCATION:The Crawford Farm\, 216 Cannon Road\, Statesville\, NC
CATEGORIES:Fundraiser,Special Event
END:VEVENT
END:VCALENDAR