BEGIN:VCALENDAR
VERSION:2.0
PRODID:-//Crosby Scholars Iredell - ECPv6.15.13.1//NONSGML v1.0//EN
CALSCALE:GREGORIAN
METHOD:PUBLISH
X-WR-CALNAME:Crosby Scholars Iredell
X-ORIGINAL-URL:https://www.crosbyscholarsiredell.org
X-WR-CALDESC:Events for Crosby Scholars Iredell
REFRESH-INTERVAL;VALUE=DURATION:PT1H
X-Robots-Tag:noindex
X-PUBLISHED-TTL:PT1H
BEGIN:VTIMEZONE
TZID:America/New_York
BEGIN:DAYLIGHT
TZOFFSETFROM:-0500
TZOFFSETTO:-0400
TZNAME:EDT
DTSTART:20200308T070000
END:DAYLIGHT
BEGIN:STANDARD
TZOFFSETFROM:-0400
TZOFFSETTO:-0500
TZNAME:EST
DTSTART:20201101T060000
END:STANDARD
BEGIN:DAYLIGHT
TZOFFSETFROM:-0500
TZOFFSETTO:-0400
TZNAME:EDT
DTSTART:20210314T070000
END:DAYLIGHT
BEGIN:STANDARD
TZOFFSETFROM:-0400
TZOFFSETTO:-0500
TZNAME:EST
DTSTART:20211107T060000
END:STANDARD
BEGIN:DAYLIGHT
TZOFFSETFROM:-0500
TZOFFSETTO:-0400
TZNAME:EDT
DTSTART:20220313T070000
END:DAYLIGHT
BEGIN:STANDARD
TZOFFSETFROM:-0400
TZOFFSETTO:-0500
TZNAME:EST
DTSTART:20221106T060000
END:STANDARD
BEGIN:DAYLIGHT
TZOFFSETFROM:-0500
TZOFFSETTO:-0400
TZNAME:EDT
DTSTART:20230312T070000
END:DAYLIGHT
BEGIN:STANDARD
TZOFFSETFROM:-0400
TZOFFSETTO:-0500
TZNAME:EST
DTSTART:20231105T060000
END:STANDARD
END:VTIMEZONE
BEGIN:VEVENT
DTSTART;TZID=America/New_York:20211204T100000
DTEND;TZID=America/New_York:20211204T120000
DTSTAMP:20260421T182517
CREATED:20210519T184803Z
LAST-MODIFIED:20211026T201315Z
UID:10001267-1638612000-1638619200@www.crosbyscholarsiredell.org
SUMMARY:All Grades Statesville 6-12 Academy
DESCRIPTION:Statesville MCC Location. Register in your portal.  \nThis Academy is for all grade levels (6-12).
URL:https://www.crosbyscholarsiredell.org/events/6-12-academies-5/
LOCATION:Mitchell Community College Statesville Campus\, 500 West Broad Street\, Statesville\, NC\, 28677\, United States
CATEGORIES:6th Grade Academy,7th & 8th Grade Academy,9th & 10th Grade Academy,Academy,Junior Academy,Parent Academy,Senior Academy
ORGANIZER;CN="Iredell Crosby Scholars":MAILTO:info@crosbyscholarsiredell.org
END:VEVENT
BEGIN:VEVENT
DTSTART;TZID=America/New_York:20211207T183000
DTEND;TZID=America/New_York:20211207T193000
DTSTAMP:20260421T182517
CREATED:20210519T192742Z
LAST-MODIFIED:20210519T192742Z
UID:10001275-1638901800-1638905400@www.crosbyscholarsiredell.org
SUMMARY:6-8 Virtual Academy
DESCRIPTION:Zoom Academy for 6th-8th graders. Register in your student portal after July 5\, 2021.
URL:https://www.crosbyscholarsiredell.org/events/6-8-virtual-academy-2/
LOCATION:Online\, NC\, United States
CATEGORIES:6th Grade Academy,7th & 8th Grade Academy,Academy
ORGANIZER;CN="Iredell Crosby Scholars":MAILTO:info@crosbyscholarsiredell.org
END:VEVENT
BEGIN:VEVENT
DTSTART;TZID=America/New_York:20211209T190000
DTEND;TZID=America/New_York:20211209T200000
DTSTAMP:20260421T182517
CREATED:20210519T192926Z
LAST-MODIFIED:20210901T034744Z
UID:10001276-1639076400-1639080000@www.crosbyscholarsiredell.org
SUMMARY:Tips to land your 1st JOB! 9th/10th Grade ZOOM- Virtual
DESCRIPTION:Join this Zoom/Virtual Academy for a fun peak in to how to land your 1st Job!  Whether you are looking for a part-time job in High School\, something over the summer\, or more\, these tips will help grow your confidence before that first job application or interview.  Look forward to seeing you there! \nRegistration must take place on the Student Portal!
URL:https://www.crosbyscholarsiredell.org/events/9-10-virtual-academy/
LOCATION:Online\, NC\, United States
CATEGORIES:9th & 10th Grade Academy,Academy
ORGANIZER;CN="Iredell Crosby Scholars":MAILTO:info@crosbyscholarsiredell.org
END:VEVENT
BEGIN:VEVENT
DTSTART;VALUE=DATE:20211224
DTEND;VALUE=DATE:20211225
DTSTAMP:20260421T182517
CREATED:20211004T202230Z
LAST-MODIFIED:20211026T200920Z
UID:10001317-1640304000-1640390399@www.crosbyscholarsiredell.org
SUMMARY:Office Closed-Merry Christmas!
DESCRIPTION:
URL:https://www.crosbyscholarsiredell.org/events/office-closed-3/
END:VEVENT
BEGIN:VEVENT
DTSTART;TZID=America/New_York:20211229T100000
DTEND;TZID=America/New_York:20211229T120000
DTSTAMP:20260421T182517
CREATED:20210901T035025Z
LAST-MODIFIED:20210901T035025Z
UID:10001297-1640772000-1640779200@www.crosbyscholarsiredell.org
SUMMARY:Jr / Sr  Academy : College Game: Are you ready to play? 12/29/21
DESCRIPTION:Come play The College Game on 12/29 from 10 AM to 12 PM!  \nIf you have any questions\, please contact Jenniffer Jamison\, Senior Program Coordinator\, at (704) 873-5005 ext. 11407 or jjamison@crosbyscholarsiredell.org \nLocation: Goodwill Workforce Development Center (124 Fourth Crescent Place\, Statesville\, NC 28625) \nRegistration must take place on the Student Portal.
URL:https://www.crosbyscholarsiredell.org/events/jr-sr-academy-college-game-are-you-ready-to-play-12-29-21/
CATEGORIES:Academy
END:VEVENT
BEGIN:VEVENT
DTSTART;VALUE=DATE:20211231
DTEND;VALUE=DATE:20220101
DTSTAMP:20260421T182517
CREATED:20211005T150913Z
LAST-MODIFIED:20211005T150913Z
UID:10001319-1640908800-1640995199@www.crosbyscholarsiredell.org
SUMMARY:Office Closed-Happy New Year!
DESCRIPTION:
URL:https://www.crosbyscholarsiredell.org/events/office-closed-happy-new-year/
END:VEVENT
BEGIN:VEVENT
DTSTART;TZID=America/New_York:20220106T180000
DTEND;TZID=America/New_York:20220106T190000
DTSTAMP:20260421T182517
CREATED:20220103T213834Z
LAST-MODIFIED:20220103T213834Z
UID:10001332-1641492000-1641495600@www.crosbyscholarsiredell.org
SUMMARY:Freshman 101 Q&A event
DESCRIPTION:Class of 2022 – Still need an academy or are you just interested in how to be successful during your freshman year of college.  Sign up for this virtual academy on the student portal. \n 
URL:https://www.crosbyscholarsiredell.org/events/freshman-101-qa-event/
END:VEVENT
BEGIN:VEVENT
DTSTART;TZID=America/New_York:20220108T100000
DTEND;TZID=America/New_York:20220108T113000
DTSTAMP:20260421T182517
CREATED:20220103T212549Z
LAST-MODIFIED:20220103T212549Z
UID:10001327-1641636000-1641641400@www.crosbyscholarsiredell.org
SUMMARY:Think Like A Senior Meeting for Class of 2023
DESCRIPTION:The “Think Like A Senior Meeting” is replacing the Mandatory Rising Senior Meeting.  Every Junior that is planning to graduate in 2023 and wishes to complete the Crosby Scholars Senior Program is required to attend ONE of these meetings.  We are offering the same meeting 8 times during the month of January. \nRegister on the Student Portal to attend one of the meetings.  When you register you will need to answer the question about your t-shirt size.  Please contact Jjamison@crosbyscholarsiredell.org with any questions. \n1/8/22 is NOW VIRTUAL – Zoom link will be emailed to everyone registered. 
URL:https://www.crosbyscholarsiredell.org/events/think-like-a-senior-meeting-for-class-of-2023/
END:VEVENT
BEGIN:VEVENT
DTSTART;TZID=America/New_York:20220108T100000
DTEND;TZID=America/New_York:20220108T120000
DTSTAMP:20260421T182517
CREATED:20211026T201600Z
LAST-MODIFIED:20220103T204434Z
UID:10001325-1641636000-1641643200@www.crosbyscholarsiredell.org
SUMMARY:Academy NOW VIRTUAL All Grades
DESCRIPTION:Register in your student portal. Note: This has been changed to an online event.
URL:https://www.crosbyscholarsiredell.org/events/academy-mooresville-all-grades/
LOCATION:Online\, NC\, United States
CATEGORIES:6th Grade Academy,7th & 8th Grade Academy,9th & 10th Grade Academy,Academy,Junior Academy,Parent Academy,Senior Academy
ORGANIZER;CN="Iredell Crosby Scholars":MAILTO:info@crosbyscholarsiredell.org
END:VEVENT
BEGIN:VEVENT
DTSTART;TZID=America/New_York:20220113T180000
DTEND;TZID=America/New_York:20220113T193000
DTSTAMP:20260421T182517
CREATED:20220103T212746Z
LAST-MODIFIED:20220103T212746Z
UID:10001328-1642096800-1642102200@www.crosbyscholarsiredell.org
SUMMARY:Think Like A Senior Meeting for Class of 2023 - Virtual
DESCRIPTION:The “Think Like A Senior Meeting” is replacing the Mandatory Rising Senior Meeting.  Every Junior that is planning to graduate in 2023 and wishes to complete the Crosby Scholars Senior Program is required to attend ONE of these meetings.  We are offering the same meeting 8 times during the month of January. \nRegister on the Student Portal to attend one of the meetings.  When you register you will need to answer the question about your t-shirt size.  Please contact Jjamison@crosbyscholarsiredell.org with any questions. \n1/8/22 is NOW VIRTUAL – Zoom link will be emailed to everyone registered.
URL:https://www.crosbyscholarsiredell.org/events/think-like-a-senior-meeting-for-class-of-2023-virtual/
CATEGORIES:Rising Senior Meeting,Special Event
END:VEVENT
END:VCALENDAR