BEGIN:VCALENDAR
VERSION:2.0
PRODID:-//Crosby Scholars Iredell - ECPv6.15.13.1//NONSGML v1.0//EN
CALSCALE:GREGORIAN
METHOD:PUBLISH
X-WR-CALNAME:Crosby Scholars Iredell
X-ORIGINAL-URL:https://www.crosbyscholarsiredell.org
X-WR-CALDESC:Events for Crosby Scholars Iredell
REFRESH-INTERVAL;VALUE=DURATION:PT1H
X-Robots-Tag:noindex
X-PUBLISHED-TTL:PT1H
BEGIN:VTIMEZONE
TZID:America/New_York
BEGIN:DAYLIGHT
TZOFFSETFROM:-0500
TZOFFSETTO:-0400
TZNAME:EDT
DTSTART:20200308T070000
END:DAYLIGHT
BEGIN:STANDARD
TZOFFSETFROM:-0400
TZOFFSETTO:-0500
TZNAME:EST
DTSTART:20201101T060000
END:STANDARD
BEGIN:DAYLIGHT
TZOFFSETFROM:-0500
TZOFFSETTO:-0400
TZNAME:EDT
DTSTART:20210314T070000
END:DAYLIGHT
BEGIN:STANDARD
TZOFFSETFROM:-0400
TZOFFSETTO:-0500
TZNAME:EST
DTSTART:20211107T060000
END:STANDARD
BEGIN:DAYLIGHT
TZOFFSETFROM:-0500
TZOFFSETTO:-0400
TZNAME:EDT
DTSTART:20220313T070000
END:DAYLIGHT
BEGIN:STANDARD
TZOFFSETFROM:-0400
TZOFFSETTO:-0500
TZNAME:EST
DTSTART:20221106T060000
END:STANDARD
END:VTIMEZONE
BEGIN:VEVENT
DTSTART;TZID=America/New_York:20210426T160000
DTEND;TZID=America/New_York:20210426T163000
DTSTAMP:20260421T104822
CREATED:20210421T190616Z
LAST-MODIFIED:20210421T190616Z
UID:10001254-1619452800-1619454600@www.crosbyscholarsiredell.org
SUMMARY:Crosby Club Meeting #4 (Freshmen)-Leadership Skills and Qualities/Getting Involved
DESCRIPTION:Would you like to learn some ways to enhance your leadership skills? Need some tips on how to get more involved at your high school and in your community? Join Ms. Montgomery for the last virtual Crosby Club meeting of the school year! \nLearning outcomes: \n-Learn how to be a competitive applicant for college \n-How to earn respect and be professional   \n-How to take initiative and make decisions \n-Staying motivated and learning how to motivate others  \nSign up here: https://forms.gle/JstiQh7Umb3H9bYU8
URL:https://www.crosbyscholarsiredell.org/events/crosby-club-meeting-4-freshmen-leadership-skills-and-qualities-getting-involved/
CATEGORIES:9th Grade Advisor Meeting,Grade Advisor Meeting
ATTACH;FMTTYPE=image/jpeg:https://www.crosbyscholarsiredell.org/wp-content/uploads/sites/4/2021/04/Crosby-Club-Meeting-4-Freshmen.jpg
END:VEVENT
BEGIN:VEVENT
DTSTART;TZID=America/New_York:20210427T160000
DTEND;TZID=America/New_York:20210427T163000
DTSTAMP:20260421T104822
CREATED:20210422T045143Z
LAST-MODIFIED:20210422T045143Z
UID:10001255-1619539200-1619541000@www.crosbyscholarsiredell.org
SUMMARY:Crosby Club Meeting #4 (Sophomores)- Developing a Growth Mindset and Studying Smart
DESCRIPTION:Join us for the last virtual Crosby Club meeting of the school year. We will discuss how to make the most out of your study time and how to build confidence/hit life’s challenges head on. \nWhen? April 27 from 4-4:30PM.  \nLearning Outcomes: \n– how to study smart \n– how to develop a growth mindset  \nThe Zoom link will be sent out prior to the webinar! \nSign up here: https://forms.gle/iUcJdzD9buiQpgzV7
URL:https://www.crosbyscholarsiredell.org/events/crosby-club-meeting-4-sophomores-developing-a-growth-mindset-and-studying-smart/
CATEGORIES:10th Grade Advisor Meeting,Grade Advisor Meeting
ATTACH;FMTTYPE=image/jpeg:https://www.crosbyscholarsiredell.org/wp-content/uploads/sites/4/2021/04/Crosby-Club-Meeting-4-Sophomores.jpg
END:VEVENT
BEGIN:VEVENT
DTSTART;TZID=America/New_York:20210428T160000
DTEND;TZID=America/New_York:20210428T163000
DTSTAMP:20260421T104822
CREATED:20210422T050758Z
LAST-MODIFIED:20210422T050758Z
UID:10001256-1619625600-1619627400@www.crosbyscholarsiredell.org
SUMMARY:Crosby Club Meeting #4 (Juniors)- Senior Year College Planning
DESCRIPTION:Let’s get a head start on the college planning to-list before beginning your senior year!  \nApril 28 from 4-4:30PM  \nLearning outcomes: \n– How to get organized on the college application process before you senior year starts  \nSign up here: https://forms.gle/Hn3ia5treQ9MGvKDA
URL:https://www.crosbyscholarsiredell.org/events/crosby-club-meeting-4-juniors-senior-year-college-planning/
CATEGORIES:11th Grade Advisor Meeting,Grade Advisor Meeting
ATTACH;FMTTYPE=image/jpeg:https://www.crosbyscholarsiredell.org/wp-content/uploads/sites/4/2021/04/Crosby-Club-Meeting-4-e1702328603301.jpg
END:VEVENT
BEGIN:VEVENT
DTSTART;TZID=America/New_York:20210515T100000
DTEND;TZID=America/New_York:20210515T110000
DTSTAMP:20260421T104822
CREATED:20210429T004616Z
LAST-MODIFIED:20210429T004616Z
UID:10001262-1621072800-1621076400@www.crosbyscholarsiredell.org
SUMMARY:Leadership Training for Officers
DESCRIPTION:Were you selected to be an Officer next school year? If so\, you must attend this leadership training on Zoom. You will receive Academy credit! Zoom link will be sent the day prior to the event. \n  \n 
URL:https://www.crosbyscholarsiredell.org/events/leadership-training-for-officers/
CATEGORIES:Academy
ATTACH;FMTTYPE=image/jpeg:https://www.crosbyscholarsiredell.org/wp-content/uploads/sites/4/2021/04/officers-2.jpg
END:VEVENT
BEGIN:VEVENT
DTSTART;TZID=America/New_York:20210601T090000
DTEND;TZID=America/New_York:20210601T130000
DTSTAMP:20260421T104822
CREATED:20210428T021052Z
LAST-MODIFIED:20210428T021052Z
UID:10001257-1622538000-1622552400@www.crosbyscholarsiredell.org
SUMMARY:Try It Tuesday - Manufacturing
DESCRIPTION:Ever considered a path in Manufacturing? JOIN this Try It Tuesday to explore your options and get advice about this field of work! \nTry It Tuesdays give you a chance to explore the various career paths available to you after high school. \nJune 1st will focus on Manufacturing! \nLocation – Whitaker Room in Goodwill Career Connections Center; 124 Fourth Crescent Place\, Statesville\, N.C. 28625 \nTime – 9am to 1pm  \nSnacks and Lunch will be provided. \n**20 spots available. PLEASE REGISTER IN YOUR CROSBY SCHOLARS PORTAL.  \nPlease contact Mariah Roseboro (mariah.iredellcrosby@gmail.com) or Olivia Carr (olivia.iredellcrosby@gmail.com)\, Crosby Scholar Interns\, if you have any questions or concerns!
URL:https://www.crosbyscholarsiredell.org/events/try-it-tuesday-manufacturing/
LOCATION:Goodwill Career Connections Center\, 124 Fourth Crescent Place\, Statesville\, NC\, 28625\, United States
CATEGORIES:Academy
END:VEVENT
BEGIN:VEVENT
DTSTART;TZID=America/New_York:20210608T090000
DTEND;TZID=America/New_York:20210608T130000
DTSTAMP:20260421T104822
CREATED:20210428T021156Z
LAST-MODIFIED:20210428T021156Z
UID:10001258-1623142800-1623157200@www.crosbyscholarsiredell.org
SUMMARY:Try It Tuesday - Retail/Entrepreneurship
DESCRIPTION:Interested in exploring a career in Entrepreneurship? JOIN this Try It Tuesday to explore your options and get advice about this field of work! \nTry It Tuesdays give you a chance to explore the various career paths available to you after high school. \nJune 8th\, 2021\, will focus on Retail/Entrepreneurship! Hear from guest speakers Gregory Cain and Lisa Kiral. \nLocation – Whitaker Room in Goodwill Career Connections Center; 124 Fourth Crescent Place\, Statesville\, N.C. 28625 \nTime – 9am to 1pm  \nSnacsk and Lunch will be provided. \n**20 spots available. PLEASE REGISTER IN YOUR CROSBY SCHOLARS PORTAL. \nPlease contact Mariah Roseboro (mariah.iredellcrosby@gmail.com) or Olivia Carr (olivia.iredellcrosby@gmail.com)\, Crosby Scholar Interns\, if you have any questions or concerns!
URL:https://www.crosbyscholarsiredell.org/events/try-it-tuesday-retail-entrepreneurship/
LOCATION:Goodwill Career Connections Center\, 124 Fourth Crescent Place\, Statesville\, NC\, 28625\, United States
ORGANIZER;CN="Crosby Scholars":MAILTO:info@crosbyscholarsiredell.org
END:VEVENT
END:VCALENDAR