BEGIN:VCALENDAR
VERSION:2.0
PRODID:-//Crosby Scholars Iredell - ECPv6.15.13.1//NONSGML v1.0//EN
CALSCALE:GREGORIAN
METHOD:PUBLISH
X-WR-CALNAME:Crosby Scholars Iredell
X-ORIGINAL-URL:https://www.crosbyscholarsiredell.org
X-WR-CALDESC:Events for Crosby Scholars Iredell
REFRESH-INTERVAL;VALUE=DURATION:PT1H
X-Robots-Tag:noindex
X-PUBLISHED-TTL:PT1H
BEGIN:VTIMEZONE
TZID:America/New_York
BEGIN:DAYLIGHT
TZOFFSETFROM:-0500
TZOFFSETTO:-0400
TZNAME:EDT
DTSTART:20200308T070000
END:DAYLIGHT
BEGIN:STANDARD
TZOFFSETFROM:-0400
TZOFFSETTO:-0500
TZNAME:EST
DTSTART:20201101T060000
END:STANDARD
BEGIN:DAYLIGHT
TZOFFSETFROM:-0500
TZOFFSETTO:-0400
TZNAME:EDT
DTSTART:20210314T070000
END:DAYLIGHT
BEGIN:STANDARD
TZOFFSETFROM:-0400
TZOFFSETTO:-0500
TZNAME:EST
DTSTART:20211107T060000
END:STANDARD
BEGIN:DAYLIGHT
TZOFFSETFROM:-0500
TZOFFSETTO:-0400
TZNAME:EDT
DTSTART:20220313T070000
END:DAYLIGHT
BEGIN:STANDARD
TZOFFSETFROM:-0400
TZOFFSETTO:-0500
TZNAME:EST
DTSTART:20221106T060000
END:STANDARD
END:VTIMEZONE
BEGIN:VEVENT
DTSTART;TZID=America/New_York:20210325T180000
DTEND;TZID=America/New_York:20210325T183000
DTSTAMP:20260421T175712
CREATED:20210323T130452Z
LAST-MODIFIED:20210323T130452Z
UID:10001249-1616695200-1616697000@www.crosbyscholarsiredell.org
SUMMARY:Communication is Key!
DESCRIPTION:Do you want to learn how effectively communicate? This is the Academy for you!
URL:https://www.crosbyscholarsiredell.org/events/communication-is-key-2/
CATEGORIES:6th Grade Academy,7th & 8th Grade Academy
END:VEVENT
BEGIN:VEVENT
DTSTART;TZID=America/New_York:20210325T180000
DTEND;TZID=America/New_York:20210325T190000
DTSTAMP:20260421T175712
CREATED:20210224T005531Z
LAST-MODIFIED:20210224T005531Z
UID:10001238-1616695200-1616698800@www.crosbyscholarsiredell.org
SUMMARY:Telling your Story: Writing Your College Application/Scholarship Essays
DESCRIPTION:Your GPA\, test scores\, and other statistical data provide admission and scholarship committees just a glimpse of who you are. A well-written essay is your opportunity to tell the rest of the story. So\, what makes a great application essay? After attending this academy\, you’ll know.
URL:https://www.crosbyscholarsiredell.org/events/telling-your-story-writing-your-college-application-scholarship-essays-2/
LOCATION:Iredell Crosby Scholars\, 124 Fourth Crescent Place\, Statesville\, NC\, 28625\, United States
CATEGORIES:Junior Academy
END:VEVENT
BEGIN:VEVENT
DTSTART;TZID=America/New_York:20210327T100000
DTEND;TZID=America/New_York:20210327T110000
DTSTAMP:20260421T175712
CREATED:20210317T195601Z
LAST-MODIFIED:20210319T142145Z
UID:10001247-1616839200-1616842800@www.crosbyscholarsiredell.org
SUMMARY:Make-up Academy: Benefits of College for Grades 9-10
DESCRIPTION:  \nDo you still need to meet your Academy requirement for the school year? Join us for a session on the benefits of college. Is it worth the time and financial investment? The answer is yes! Join to learn more. \n  \nRegistration must take place on the Student Portal! \nWhen? March 27 from 10AM-11.
URL:https://www.crosbyscholarsiredell.org/events/make-up-academy-benefits-of-college-for-grades-9-10/
CATEGORIES:Academy
END:VEVENT
BEGIN:VEVENT
DTSTART;TZID=America/New_York:20210331T180000
DTEND;TZID=America/New_York:20210331T190000
DTSTAMP:20260421T175712
CREATED:20210303T143931Z
LAST-MODIFIED:20210303T143931Z
UID:10001241-1617213600-1617217200@www.crosbyscholarsiredell.org
SUMMARY:JR. Academy - CHOOSING A DIFFERENT PATH?
DESCRIPTION:Thinking of  Gap Year?  Community College?  Military?  Work?  If you are not looking to start a 4-year school after high school then you want to attend this academy! \nLet’s explore options for success after high school.  Everyone has to pick their own path but you must have a plan!  This session will help you see what opportunities are available.
URL:https://www.crosbyscholarsiredell.org/events/jr-academy-choosing-a-different-path/
LOCATION:Iredell Crosby Scholars\, 124 Fourth Crescent Place\, Statesville\, NC\, 28625\, United States
CATEGORIES:Junior Academy
ORGANIZER;CN="Iredell Crosby Scholars":MAILTO:info@crosbyscholarsiredell.org
END:VEVENT
BEGIN:VEVENT
DTSTART;TZID=America/New_York:20210331T235900
DTEND;TZID=America/New_York:20210331T235900
DTSTAMP:20260421T175712
CREATED:20210309T210737Z
LAST-MODIFIED:20210309T210951Z
UID:10001245-1617235140-1617235140@www.crosbyscholarsiredell.org
SUMMARY:COMMUNITY SERVICE DEADLINE
DESCRIPTION:Deadline for 6th to 10th grade students.
URL:https://www.crosbyscholarsiredell.org/events/community-service-deadline/
CATEGORIES:Community Service
ORGANIZER;CN="Iredell Crosby Scholars":MAILTO:info@crosbyscholarsiredell.org
END:VEVENT
BEGIN:VEVENT
DTSTART;TZID=America/New_York:20210406T180000
DTEND;TZID=America/New_York:20210406T190000
DTSTAMP:20260421T175712
CREATED:20210330T163424Z
LAST-MODIFIED:20210330T163424Z
UID:10001253-1617732000-1617735600@www.crosbyscholarsiredell.org
SUMMARY:Master Your Emotions! - Middle School Acade
DESCRIPTION:You go through a variety of emotions on a daily basis\, this Academy is designed to help you control your emotions. This is an online Zoom Academy with Middle School Coordinator Ashley Scott.
URL:https://www.crosbyscholarsiredell.org/events/master-your-emotions-middle-school-acade/
CATEGORIES:6th Grade Academy,7th & 8th Grade Academy
END:VEVENT
BEGIN:VEVENT
DTSTART;TZID=America/New_York:20210410T100000
DTEND;TZID=America/New_York:20210410T110000
DTSTAMP:20260421T175712
CREATED:20210317T200018Z
LAST-MODIFIED:20210319T142311Z
UID:10001248-1618048800-1618052400@www.crosbyscholarsiredell.org
SUMMARY:Benefits of College: Make-up Academy for Grades 9-10
DESCRIPTION:Do you still need to meet your Academy requirement for the school year? Join us for a session on the benefits of college. Is it worth the time and financial investment? The answer is yes! Join to learn more. \n  \nRegistration must take place on the Student Portal! \nWhen? April 10 from 10AM-11AM.
URL:https://www.crosbyscholarsiredell.org/events/benefits-of-college-make-up-academy-for-grades-9-10/
CATEGORIES:Academy
END:VEVENT
BEGIN:VEVENT
DTSTART;TZID=America/New_York:20210412T160000
DTEND;TZID=America/New_York:20210412T163000
DTSTAMP:20260421T175712
CREATED:20210323T194352Z
LAST-MODIFIED:20210407T025444Z
UID:10001250-1618243200-1618245000@www.crosbyscholarsiredell.org
SUMMARY:Crosby Club Mtg #3- Freshmen
DESCRIPTION:Join us for Crosby Club meeting #3 for freshmen! We will discuss SMART goals\, education options after high school\, and leadership opportunities within Crosby Scholars. Register by filling out this google form! You will receive the Zoom link the morning of the event. \nPlease note that this does not count for Academy credit. \nhttps://forms.gle/f3RAbjpbBcNetgSZ6 \nWhen? April 12 at 4PM
URL:https://www.crosbyscholarsiredell.org/events/crosby-club-mtg-3-freshmen/
CATEGORIES:9th Grade Advisor Meeting,Grade Advisor Meeting
ATTACH;FMTTYPE=image/jpeg:https://www.crosbyscholarsiredell.org/wp-content/uploads/sites/4/2021/03/Crosby-Club-Meeting-3-3.jpg
END:VEVENT
BEGIN:VEVENT
DTSTART;TZID=America/New_York:20210413T160000
DTEND;TZID=America/New_York:20210413T163000
DTSTAMP:20260421T175712
CREATED:20210323T194816Z
LAST-MODIFIED:20210407T025539Z
UID:10001251-1618329600-1618331400@www.crosbyscholarsiredell.org
SUMMARY:Crosby Club Mtg #3-Sophomores
DESCRIPTION:Join us for Crosby Club Meeting #3 for sophomores! We will discuss leadership opportunities within Crosby Scholars and do an introduction to financial basics. \nRegister by filling out this google form! You will receive the Zoom link the morning of the event. \nPlease note that this does not count for Academy credit. \nhttps://forms.gle/reynt2KCG9heVtLD9 \nWhen? April 13 at 4PM
URL:https://www.crosbyscholarsiredell.org/events/crosby-club-mtg-3-sophomores/
CATEGORIES:10th Grade Advisor Meeting,Grade Advisor Meeting
ATTACH;FMTTYPE=image/jpeg:https://www.crosbyscholarsiredell.org/wp-content/uploads/sites/4/2021/03/Crosby-Club-Meeting-3-3.jpg
END:VEVENT
BEGIN:VEVENT
DTSTART;TZID=America/New_York:20210419T160000
DTEND;TZID=America/New_York:20210419T163000
DTSTAMP:20260421T175712
CREATED:20210324T132542Z
LAST-MODIFIED:20210407T025701Z
UID:10001252-1618848000-1618849800@www.crosbyscholarsiredell.org
SUMMARY:Crosby Club Mtg #3- Juniors
DESCRIPTION:Join us for Crosby Club Meeting #3 for juniors! We will discuss making the most of your free time and how to deal with stress. \nPlease register by filling out this google form. \nhttps://forms.gle/Ltez5zudnU3GPLBg7 \nWhen? April 19 at 4PM \n 
URL:https://www.crosbyscholarsiredell.org/events/crosby-club-mtg-3-juniors/
CATEGORIES:11th Grade Advisor Meeting,Grade Advisor Meeting
ATTACH;FMTTYPE=image/jpeg:https://www.crosbyscholarsiredell.org/wp-content/uploads/sites/4/2021/03/Crosby-Club-Meeting-3-3.jpg
END:VEVENT
BEGIN:VEVENT
DTSTART;TZID=America/New_York:20210426T160000
DTEND;TZID=America/New_York:20210426T163000
DTSTAMP:20260421T175712
CREATED:20210421T190616Z
LAST-MODIFIED:20210421T190616Z
UID:10001254-1619452800-1619454600@www.crosbyscholarsiredell.org
SUMMARY:Crosby Club Meeting #4 (Freshmen)-Leadership Skills and Qualities/Getting Involved
DESCRIPTION:Would you like to learn some ways to enhance your leadership skills? Need some tips on how to get more involved at your high school and in your community? Join Ms. Montgomery for the last virtual Crosby Club meeting of the school year! \nLearning outcomes: \n-Learn how to be a competitive applicant for college \n-How to earn respect and be professional   \n-How to take initiative and make decisions \n-Staying motivated and learning how to motivate others  \nSign up here: https://forms.gle/JstiQh7Umb3H9bYU8
URL:https://www.crosbyscholarsiredell.org/events/crosby-club-meeting-4-freshmen-leadership-skills-and-qualities-getting-involved/
CATEGORIES:9th Grade Advisor Meeting,Grade Advisor Meeting
ATTACH;FMTTYPE=image/jpeg:https://www.crosbyscholarsiredell.org/wp-content/uploads/sites/4/2021/04/Crosby-Club-Meeting-4-Freshmen.jpg
END:VEVENT
BEGIN:VEVENT
DTSTART;TZID=America/New_York:20210427T160000
DTEND;TZID=America/New_York:20210427T163000
DTSTAMP:20260421T175712
CREATED:20210422T045143Z
LAST-MODIFIED:20210422T045143Z
UID:10001255-1619539200-1619541000@www.crosbyscholarsiredell.org
SUMMARY:Crosby Club Meeting #4 (Sophomores)- Developing a Growth Mindset and Studying Smart
DESCRIPTION:Join us for the last virtual Crosby Club meeting of the school year. We will discuss how to make the most out of your study time and how to build confidence/hit life’s challenges head on. \nWhen? April 27 from 4-4:30PM.  \nLearning Outcomes: \n– how to study smart \n– how to develop a growth mindset  \nThe Zoom link will be sent out prior to the webinar! \nSign up here: https://forms.gle/iUcJdzD9buiQpgzV7
URL:https://www.crosbyscholarsiredell.org/events/crosby-club-meeting-4-sophomores-developing-a-growth-mindset-and-studying-smart/
CATEGORIES:10th Grade Advisor Meeting,Grade Advisor Meeting
ATTACH;FMTTYPE=image/jpeg:https://www.crosbyscholarsiredell.org/wp-content/uploads/sites/4/2021/04/Crosby-Club-Meeting-4-Sophomores.jpg
END:VEVENT
BEGIN:VEVENT
DTSTART;TZID=America/New_York:20210428T160000
DTEND;TZID=America/New_York:20210428T163000
DTSTAMP:20260421T175712
CREATED:20210422T050758Z
LAST-MODIFIED:20210422T050758Z
UID:10001256-1619625600-1619627400@www.crosbyscholarsiredell.org
SUMMARY:Crosby Club Meeting #4 (Juniors)- Senior Year College Planning
DESCRIPTION:Let’s get a head start on the college planning to-list before beginning your senior year!  \nApril 28 from 4-4:30PM  \nLearning outcomes: \n– How to get organized on the college application process before you senior year starts  \nSign up here: https://forms.gle/Hn3ia5treQ9MGvKDA
URL:https://www.crosbyscholarsiredell.org/events/crosby-club-meeting-4-juniors-senior-year-college-planning/
CATEGORIES:11th Grade Advisor Meeting,Grade Advisor Meeting
ATTACH;FMTTYPE=image/jpeg:https://www.crosbyscholarsiredell.org/wp-content/uploads/sites/4/2021/04/Crosby-Club-Meeting-4-e1702328603301.jpg
END:VEVENT
BEGIN:VEVENT
DTSTART;TZID=America/New_York:20210515T100000
DTEND;TZID=America/New_York:20210515T110000
DTSTAMP:20260421T175712
CREATED:20210429T004616Z
LAST-MODIFIED:20210429T004616Z
UID:10001262-1621072800-1621076400@www.crosbyscholarsiredell.org
SUMMARY:Leadership Training for Officers
DESCRIPTION:Were you selected to be an Officer next school year? If so\, you must attend this leadership training on Zoom. You will receive Academy credit! Zoom link will be sent the day prior to the event. \n  \n 
URL:https://www.crosbyscholarsiredell.org/events/leadership-training-for-officers/
CATEGORIES:Academy
ATTACH;FMTTYPE=image/jpeg:https://www.crosbyscholarsiredell.org/wp-content/uploads/sites/4/2021/04/officers-2.jpg
END:VEVENT
END:VCALENDAR