BEGIN:VCALENDAR
VERSION:2.0
PRODID:-//Crosby Scholars Iredell - ECPv6.15.13.1//NONSGML v1.0//EN
CALSCALE:GREGORIAN
METHOD:PUBLISH
X-WR-CALNAME:Crosby Scholars Iredell
X-ORIGINAL-URL:https://www.crosbyscholarsiredell.org
X-WR-CALDESC:Events for Crosby Scholars Iredell
REFRESH-INTERVAL;VALUE=DURATION:PT1H
X-Robots-Tag:noindex
X-PUBLISHED-TTL:PT1H
BEGIN:VTIMEZONE
TZID:America/New_York
BEGIN:DAYLIGHT
TZOFFSETFROM:-0500
TZOFFSETTO:-0400
TZNAME:EDT
DTSTART:20210314T070000
END:DAYLIGHT
BEGIN:STANDARD
TZOFFSETFROM:-0400
TZOFFSETTO:-0500
TZNAME:EST
DTSTART:20211107T060000
END:STANDARD
BEGIN:DAYLIGHT
TZOFFSETFROM:-0500
TZOFFSETTO:-0400
TZNAME:EDT
DTSTART:20220313T070000
END:DAYLIGHT
BEGIN:STANDARD
TZOFFSETFROM:-0400
TZOFFSETTO:-0500
TZNAME:EST
DTSTART:20221106T060000
END:STANDARD
BEGIN:DAYLIGHT
TZOFFSETFROM:-0500
TZOFFSETTO:-0400
TZNAME:EDT
DTSTART:20230312T070000
END:DAYLIGHT
BEGIN:STANDARD
TZOFFSETFROM:-0400
TZOFFSETTO:-0500
TZNAME:EST
DTSTART:20231105T060000
END:STANDARD
BEGIN:DAYLIGHT
TZOFFSETFROM:-0500
TZOFFSETTO:-0400
TZNAME:EDT
DTSTART:20240310T070000
END:DAYLIGHT
BEGIN:STANDARD
TZOFFSETFROM:-0400
TZOFFSETTO:-0500
TZNAME:EST
DTSTART:20241103T060000
END:STANDARD
BEGIN:DAYLIGHT
TZOFFSETFROM:-0500
TZOFFSETTO:-0400
TZNAME:EDT
DTSTART:20250309T070000
END:DAYLIGHT
BEGIN:STANDARD
TZOFFSETFROM:-0400
TZOFFSETTO:-0500
TZNAME:EST
DTSTART:20251102T060000
END:STANDARD
END:VTIMEZONE
BEGIN:VEVENT
DTSTART;TZID=America/New_York:20220131T180000
DTEND;TZID=America/New_York:20220131T193000
DTSTAMP:20260421T114424
CREATED:20220103T214405Z
LAST-MODIFIED:20220103T214405Z
UID:10001334-1643652000-1643657400@www.crosbyscholarsiredell.org
SUMMARY:Think Like A Senior Meeting for Class of 2023 - Virtual
DESCRIPTION:The “Think Like A Senior Meeting” is replacing the Mandatory Rising Senior Meeting.  Every Junior that is planning to graduate in 2023 and wishes to complete the Crosby Scholars Senior Program is required to attend ONE of these meetings.  We are offering the same meeting 8 times during the month of January. \nRegister on the Student Portal to attend one of the meetings.  When you register you will need to answer the question about your t-shirt size.  Please contact Jjamison@crosbyscholarsiredell.org with any questions. \n1/8/22 is NOW VIRTUAL – Zoom link will be emailed to everyone registered.
URL:https://www.crosbyscholarsiredell.org/events/think-like-a-senior-meeting-for-class-of-2023-virtual-4/
LOCATION:NC
CATEGORIES:Rising Senior Meeting,Special Event
END:VEVENT
BEGIN:VEVENT
DTSTART;TZID=America/New_York:20220816T100000
DTEND;TZID=America/New_York:20220816T120000
DTSTAMP:20260421T114424
CREATED:20220503T235040Z
LAST-MODIFIED:20220503T235040Z
UID:10001386-1660644000-1660651200@www.crosbyscholarsiredell.org
SUMMARY:Class of 2024 Crosby Orientation - In Person
DESCRIPTION:Class of 2024 – This is your opportunity to learn about the Crosby Scholars Junior/Senior Program.  We will cover resources\, requirements and answer questions about how to get the most of your last 2 years in Crosby Scholars and High School.  Let start the new year right!
URL:https://www.crosbyscholarsiredell.org/events/class-of-2024-crosby-orientation-in-person/
LOCATION:NC
CATEGORIES:Rising Senior Meeting,Special Event
END:VEVENT
BEGIN:VEVENT
DTSTART;TZID=America/New_York:20230823T080000
DTEND;TZID=America/New_York:20230823T170000
DTSTAMP:20260421T114424
CREATED:20230822T154308Z
LAST-MODIFIED:20230822T154741Z
UID:10001474-1692777600-1692810000@www.crosbyscholarsiredell.org
SUMMARY:Jr/SR Program Orientation - ZOOM - EVENT
DESCRIPTION:
URL:https://www.crosbyscholarsiredell.org/events/jr-sr-program-orientation-zoom-event/
LOCATION:NC
CATEGORIES:11th Grade,Rising Senior Meeting
END:VEVENT
BEGIN:VEVENT
DTSTART;TZID=America/New_York:20230823T190000
DTEND;TZID=America/New_York:20230823T200000
DTSTAMP:20260421T114424
CREATED:20230822T154308Z
LAST-MODIFIED:20230822T154741Z
UID:10001475-1692817200-1692820800@www.crosbyscholarsiredell.org
SUMMARY:Jr/SR Program Orientation - ZOOM - EVENT
DESCRIPTION:
URL:https://www.crosbyscholarsiredell.org/events/jr-sr-program-orientation-zoom-event/
LOCATION:NC
CATEGORIES:11th Grade,Rising Senior Meeting
END:VEVENT
BEGIN:VEVENT
DTSTART;TZID=America/New_York:20230827T190000
DTEND;TZID=America/New_York:20230827T200000
DTSTAMP:20260421T114424
CREATED:20230822T154437Z
LAST-MODIFIED:20230822T154437Z
UID:10001476-1693162800-1693166400@www.crosbyscholarsiredell.org
SUMMARY:Jr/Sr Program Orientation - ZOOM Event
DESCRIPTION:
URL:https://www.crosbyscholarsiredell.org/events/jr-sr-program-orientation-zoom-event-2/
LOCATION:NC
CATEGORIES:11th Grade,Rising Senior Meeting
END:VEVENT
BEGIN:VEVENT
DTSTART;TZID=America/New_York:20230907T180000
DTEND;TZID=America/New_York:20230907T190000
DTSTAMP:20260421T114424
CREATED:20230822T154532Z
LAST-MODIFIED:20230822T154532Z
UID:10001477-1694109600-1694113200@www.crosbyscholarsiredell.org
SUMMARY:Jr/Sr Program Orientation - Zoom
DESCRIPTION:
URL:https://www.crosbyscholarsiredell.org/events/jr-sr-program-orientation-zoom/
LOCATION:NC
CATEGORIES:11th Grade,Rising Senior Meeting
END:VEVENT
BEGIN:VEVENT
DTSTART;TZID=America/New_York:20230916T100000
DTEND;TZID=America/New_York:20230916T110000
DTSTAMP:20260421T114424
CREATED:20230822T154630Z
LAST-MODIFIED:20230822T154630Z
UID:10001478-1694858400-1694862000@www.crosbyscholarsiredell.org
SUMMARY:Jr/Sr Program Orientation - Zoom - LAST CHANCE FOR THIS MEETING
DESCRIPTION:
URL:https://www.crosbyscholarsiredell.org/events/jr-sr-program-orientation-zoom-last-chance-for-this-meeting/
LOCATION:NC
CATEGORIES:11th Grade,Rising Senior Meeting
END:VEVENT
BEGIN:VEVENT
DTSTART;TZID=America/New_York:20241004T100000
DTEND;TZID=America/New_York:20241004T110000
DTSTAMP:20260421T114424
CREATED:20241001T193158Z
LAST-MODIFIED:20241001T193158Z
UID:10001597-1728036000-1728039600@www.crosbyscholarsiredell.org
SUMMARY:Jr/Sr Orientation - Class of 2026
DESCRIPTION:Join us to learn about the JR/SR Crosby Scholars Program.  Virtual Session 10/4/10 am \nZoom link was emailed to all students who still needed to attend this session. \n 
URL:https://www.crosbyscholarsiredell.org/events/jr-sr-orientation-class-of-2026/
LOCATION:NC
CATEGORIES:11th Grade,Rising Senior Meeting
END:VEVENT
END:VCALENDAR