BEGIN:VCALENDAR
VERSION:2.0
PRODID:-//Crosby Scholars Iredell - ECPv6.15.13.1//NONSGML v1.0//EN
CALSCALE:GREGORIAN
METHOD:PUBLISH
X-WR-CALNAME:Crosby Scholars Iredell
X-ORIGINAL-URL:https://www.crosbyscholarsiredell.org
X-WR-CALDESC:Events for Crosby Scholars Iredell
REFRESH-INTERVAL;VALUE=DURATION:PT1H
X-Robots-Tag:noindex
X-PUBLISHED-TTL:PT1H
BEGIN:VTIMEZONE
TZID:America/New_York
BEGIN:DAYLIGHT
TZOFFSETFROM:-0500
TZOFFSETTO:-0400
TZNAME:EDT
DTSTART:20200308T070000
END:DAYLIGHT
BEGIN:STANDARD
TZOFFSETFROM:-0400
TZOFFSETTO:-0500
TZNAME:EST
DTSTART:20201101T060000
END:STANDARD
BEGIN:DAYLIGHT
TZOFFSETFROM:-0500
TZOFFSETTO:-0400
TZNAME:EDT
DTSTART:20210314T070000
END:DAYLIGHT
BEGIN:STANDARD
TZOFFSETFROM:-0400
TZOFFSETTO:-0500
TZNAME:EST
DTSTART:20211107T060000
END:STANDARD
BEGIN:DAYLIGHT
TZOFFSETFROM:-0500
TZOFFSETTO:-0400
TZNAME:EDT
DTSTART:20220313T070000
END:DAYLIGHT
BEGIN:STANDARD
TZOFFSETFROM:-0400
TZOFFSETTO:-0500
TZNAME:EST
DTSTART:20221106T060000
END:STANDARD
END:VTIMEZONE
BEGIN:VEVENT
DTSTART;TZID=America/New_York:20210222T160000
DTEND;TZID=America/New_York:20210222T163000
DTSTAMP:20260422T091734
CREATED:20210208T155827Z
LAST-MODIFIED:20210208T174441Z
UID:10001232-1614009600-1614011400@www.crosbyscholarsiredell.org
SUMMARY:Crosby Club Meeting 2 (on Zoom)-Freshmen
DESCRIPTION:  \nJoin Ms. Montgomery and other Iredell County Crosby Scholars to learn how to build a resume and to go over a college planning checklist! \n  \nWhen? February 22 from 4-4:30 on ZOOM! \nWho can register? Freshmen! \nRegister by filling out this google form:https://forms.gle/5DkB5pDLjLx1LVxK7 \nThe Zoom link will be sent the morning of the event!
URL:https://www.crosbyscholarsiredell.org/events/crosby-club-meeting-2-on-zoom-freshmen/
CATEGORIES:9th Grade Advisor Meeting
END:VEVENT
END:VCALENDAR