BEGIN:VCALENDAR
VERSION:2.0
PRODID:-//Crosby Scholars Iredell - ECPv6.15.13.1//NONSGML v1.0//EN
CALSCALE:GREGORIAN
METHOD:PUBLISH
X-WR-CALNAME:Crosby Scholars Iredell
X-ORIGINAL-URL:https://www.crosbyscholarsiredell.org
X-WR-CALDESC:Events for Crosby Scholars Iredell
REFRESH-INTERVAL;VALUE=DURATION:PT1H
X-Robots-Tag:noindex
X-PUBLISHED-TTL:PT1H
BEGIN:VTIMEZONE
TZID:America/New_York
BEGIN:DAYLIGHT
TZOFFSETFROM:-0500
TZOFFSETTO:-0400
TZNAME:EDT
DTSTART:20180311T070000
END:DAYLIGHT
BEGIN:STANDARD
TZOFFSETFROM:-0400
TZOFFSETTO:-0500
TZNAME:EST
DTSTART:20181104T060000
END:STANDARD
BEGIN:DAYLIGHT
TZOFFSETFROM:-0500
TZOFFSETTO:-0400
TZNAME:EDT
DTSTART:20190310T070000
END:DAYLIGHT
BEGIN:STANDARD
TZOFFSETFROM:-0400
TZOFFSETTO:-0500
TZNAME:EST
DTSTART:20191103T060000
END:STANDARD
BEGIN:DAYLIGHT
TZOFFSETFROM:-0500
TZOFFSETTO:-0400
TZNAME:EDT
DTSTART:20200308T070000
END:DAYLIGHT
BEGIN:STANDARD
TZOFFSETFROM:-0400
TZOFFSETTO:-0500
TZNAME:EST
DTSTART:20201101T060000
END:STANDARD
END:VTIMEZONE
BEGIN:VEVENT
DTSTART;TZID=America/New_York:20191005T060000
DTEND;TZID=America/New_York:20191005T083000
DTSTAMP:20260420T165144
CREATED:20190917T165605Z
LAST-MODIFIED:20190917T165605Z
UID:10000975-1570255200-1570264200@www.crosbyscholarsiredell.org
SUMMARY:Community Service Opportunity at V-Point Ruritan Oct. 5\, 6-8:30 am
DESCRIPTION:6th through 12th grade students: Help the V-Point Ruritan serve a great breakfast on Saturday\, October 5\, 2019 from 6 am to 8:30 am. Help set up tables\, cook and serve food and drinks and clean up\, including busting tables. They are located at 2794 Old Mocksville Hwy\, Statesville. Interested Scholars should register on the student/parent portal. Another time slot will also be 8:00 am to 10:30 am. You may sign up for one or both time slots. \nRegistration is required. However\, if you later find that you cannot volunteer on that date or time\, please take your name off the registration list or contact us at info@crosbyscholarsiredell.org.
URL:https://www.crosbyscholarsiredell.org/events/community-service-opportunity-at-v-point-ruritan-oct-5-6-830-am/
LOCATION:NC
CATEGORIES:Community Service
END:VEVENT
BEGIN:VEVENT
DTSTART;TZID=America/New_York:20190817T180000
DTEND;TZID=America/New_York:20190817T193000
DTSTAMP:20260420T165144
CREATED:20190814T173227Z
LAST-MODIFIED:20190814T173228Z
UID:10000938-1566064800-1566070200@www.crosbyscholarsiredell.org
SUMMARY:Crosby's Got Talent
DESCRIPTION:Enjoy the talents of Crosby Scholars from across the county.  $5 at the door fundraiser for Last Dollar Grants.
URL:https://www.crosbyscholarsiredell.org/events/crosbys-got-talent/
LOCATION:Mac Gray Auditorium\, 474 N Center Street\, Statesville\, NC\, 28677\, United States
CATEGORIES:Community Service,Special Event
ORGANIZER;CN="Iredell Crosby Scholars":MAILTO:info@crosbyscholarsiredell.org
END:VEVENT
BEGIN:VEVENT
DTSTART;TZID=America/New_York:20190601T080000
DTEND;TZID=America/New_York:20190601T103000
DTSTAMP:20260420T165144
CREATED:20190510T135357Z
LAST-MODIFIED:20190510T135357Z
UID:10000922-1559376000-1559385000@www.crosbyscholarsiredell.org
SUMMARY:Community Service Opportunity at V-Point Ruritan June 1\, Time Slot 2
DESCRIPTION:6th through 12th grade students:  Help the V-Point Ruritan Club serve a great breakfast on Saturday\, June 1\, 2019 time slot 2 from 8 am to 10:30 am. You may pre-register for both time slots of 6 am to 8:30 am and 8 am to 10:30 am. Help set up tables\, cook and serve food and drinks and bust tables. They are located at 2794 Old Mocksville Highway\, Statesville. Interested Scholars should pre-register on the student/parent portal. \nRegistration is required. If you later find that you cannot volunteer on this date and/or time\, please remove your name from the registration list or contact us at info@crosbyscholarsiredell.org.
URL:https://www.crosbyscholarsiredell.org/events/community-service-opportunity-at-v-point-ruritan-june-1-time-slot-2/
LOCATION:NC
CATEGORIES:Community Service
END:VEVENT
BEGIN:VEVENT
DTSTART;TZID=America/New_York:20190601T060000
DTEND;TZID=America/New_York:20190601T083000
DTSTAMP:20260420T165144
CREATED:20190510T132855Z
LAST-MODIFIED:20190510T132855Z
UID:10000921-1559368800-1559377800@www.crosbyscholarsiredell.org
SUMMARY:Community Service Opportunity at V-Point Ruritan June 1\, Time Slot 1
DESCRIPTION:6th through 12th grade students:  Help the V-Point Ruritan Club serve a great breakfast on Saturday\, June 1\, 2019 time slot 1 from 6 am to 8:30 am. You may pre-register for both time slots of 6 am to 8:30 am and 8 am to 10:30 am. Help set up tables\, cook and serve food and drinks and bust tables. They are located at 2794 Old Mocksville Highway\, Statesville. Interested Scholars should pre-register on the student/parent portal. \nRegistration is required. If you later find that you cannot volunteer on this date and/or time\, please remove your name from the registration list or contact us at info@crosbyscholarsiredell.org.
URL:https://www.crosbyscholarsiredell.org/events/community-service-opportunity-at-v-point-ruritan-june-1-time-slot-1/
LOCATION:NC
CATEGORIES:Community Service
END:VEVENT
BEGIN:VEVENT
DTSTART;TZID=America/New_York:20190504T060000
DTEND;TZID=America/New_York:20190504T103000
DTSTAMP:20260420T165144
CREATED:20190219T164405Z
LAST-MODIFIED:20190219T164405Z
UID:10000899-1556949600-1556965800@www.crosbyscholarsiredell.org
SUMMARY:Community Service Opportunity at V-Point Ruritan
DESCRIPTION:Great community service opportunity for 6th through 12th grade students at V-Point Ruritan Club\, 2794 Old Mocksville Hwy\, Statesville\, on May 4\, 2019 from 6 am to 10:30 am (come for the amount of time you can).  \nHelp serve breakfast by setting up tables\, cooking and serving food and drinks and cleaning up\, including busting tables. \nRegistration is required. However\, if you later find that you cannot volunteer on that date or time\, please take your name off the registration list or contact us at info@crosbyscholarsiredell.org.
URL:https://www.crosbyscholarsiredell.org/events/community-service-opportunity-at-v-point-ruritan/
LOCATION:NC
CATEGORIES:Community Service
END:VEVENT
BEGIN:VEVENT
DTSTART;TZID=America/New_York:20190406T060000
DTEND;TZID=America/New_York:20190406T103000
DTSTAMP:20260420T165144
CREATED:20190218T174724Z
LAST-MODIFIED:20190219T145143Z
UID:10000862-1554530400-1554546600@www.crosbyscholarsiredell.org
SUMMARY:Community Service Opportunity at V-Point Ruritan 4/6/19
DESCRIPTION:6th through 12th grade students: Help the V-Point Ruritan Club with their great monthly breakfast on Saturday\, 4/6/19 from 6 am to 10:30 am (come the amount of time you can). This is a very popular\, fun opportunity. Help them set up tables\, cook and serve food and drinks and clean up\, including busting tables. They are located at 2794 Old Mocksville Hwy\, Statesville. Interested Scholars should register on the student/parent portal. \nRegistration is required. However\, if you later find that you cannot volunteer that date/time\, please take your name off the registration list or contact us at info@crosbyscholarsiredell.org.
URL:https://www.crosbyscholarsiredell.org/events/community-service-opportunity-at-v-point-ruritan-4-6-19/
LOCATION:NC
CATEGORIES:Community Service
END:VEVENT
BEGIN:VEVENT
DTSTART;VALUE=DATE:20190331
DTEND;VALUE=DATE:20190401
DTSTAMP:20260420T165144
CREATED:20181213T154524Z
LAST-MODIFIED:20181214T211238Z
UID:10000789-1553990400-1554076799@www.crosbyscholarsiredell.org
SUMMARY:6th-10th Grade Community Service Forms Due
DESCRIPTION:
URL:https://www.crosbyscholarsiredell.org/events/6th-10th-grade-community-service-forms-due/
LOCATION:NC
CATEGORIES:Community Service
END:VEVENT
BEGIN:VEVENT
DTSTART;TZID=America/New_York:20190302T060000
DTEND;TZID=America/New_York:20190302T223000
DTSTAMP:20260420T165144
CREATED:20190208T173211Z
LAST-MODIFIED:20190208T173211Z
UID:10000848-1551506400-1551565800@www.crosbyscholarsiredell.org
SUMMARY:Community Service Opportunity at V-Point Ruritan March 2
DESCRIPTION:6th through 12th grade students: Help the V-Point Ruritan Club serve a great breakfast on 3/2/19 from 6 am to 10:30 am (come for the amount of time you can). Help set up tables\, cook and serve food and drinks and clean up\, including busting tables. They are located at 2794 Old Mocksville Hwy\, Statesville. \nRegistration is required. Interested Scholars should register on the student/parent portal. However\, if you later find out that you will NOT be able to volunteer that date/time\, please take your name off the registration list or contact us at info@crosbyscholarsiredell.org.
URL:https://www.crosbyscholarsiredell.org/events/community-service-opportunity-at-v-point-ruritan-march-2/
LOCATION:NC
CATEGORIES:Community Service
END:VEVENT
BEGIN:VEVENT
DTSTART;TZID=America/New_York:20190228T163000
DTEND;TZID=America/New_York:20190228T183000
DTSTAMP:20260420T165144
CREATED:20190208T170200Z
LAST-MODIFIED:20190208T170200Z
UID:10000845-1551371400-1551378600@www.crosbyscholarsiredell.org
SUMMARY:Tutoring Community Service Opportunity
DESCRIPTION:Nine students at the Children’s Home of Iredell County at 121 W. Bingham St\, Statesville\, need tutoring help mostly with Algebra. \nTutoring the 3 middle school students would be from 4:30 pm to 5:30 pm. \nTutoring the 6 high school students would be from 5:30 pm to 6:30 pm. \nIf you would like to help them and the above address and hours are possible for you\, please call Christie Gates at 704-871-2289\, extension 373.
URL:https://www.crosbyscholarsiredell.org/events/tutoring-community-service-opportunity/
LOCATION:NC
CATEGORIES:Community Service
END:VEVENT
BEGIN:VEVENT
DTSTART;TZID=America/New_York:20190228T080000
DTEND;TZID=America/New_York:20190228T170000
DTSTAMP:20260420T165144
CREATED:20190208T170424Z
LAST-MODIFIED:20190208T170424Z
UID:10000846-1551340800-1551373200@www.crosbyscholarsiredell.org
SUMMARY:Community Service Opportunity
DESCRIPTION:The Iredell County Public Library is  looking for dedicated volunteers 16+ to assist with tutoring for our Homework Help program. This is a great way for teens to gain valuable volunteer or work experience.\n\nTo fill out our application online\, click the link below. Paper applications are available at the Youth Services desk. Email Viviana Sierra at vsierra@iredell.lib.nc.us or call 704-878-3097 for more information.\n\nOnline application link:\nhttps://docs.google.com/forms/d/e/1FAIpQLSdz6lSTcVsL9vjey3OAgca9h9b2H2pUXCeqOYAmnmhgiPztBA/viewform
URL:https://www.crosbyscholarsiredell.org/events/community-service-opportunity/
LOCATION:NC
CATEGORIES:Community Service
END:VEVENT
END:VCALENDAR