BEGIN:VCALENDAR
VERSION:2.0
PRODID:-//Crosby Scholars Iredell - ECPv6.15.13.1//NONSGML v1.0//EN
CALSCALE:GREGORIAN
METHOD:PUBLISH
X-WR-CALNAME:Crosby Scholars Iredell
X-ORIGINAL-URL:https://www.crosbyscholarsiredell.org
X-WR-CALDESC:Events for Crosby Scholars Iredell
REFRESH-INTERVAL;VALUE=DURATION:PT1H
X-Robots-Tag:noindex
X-PUBLISHED-TTL:PT1H
BEGIN:VTIMEZONE
TZID:America/New_York
BEGIN:DAYLIGHT
TZOFFSETFROM:-0500
TZOFFSETTO:-0400
TZNAME:EDT
DTSTART:20200308T070000
END:DAYLIGHT
BEGIN:STANDARD
TZOFFSETFROM:-0400
TZOFFSETTO:-0500
TZNAME:EST
DTSTART:20201101T060000
END:STANDARD
BEGIN:DAYLIGHT
TZOFFSETFROM:-0500
TZOFFSETTO:-0400
TZNAME:EDT
DTSTART:20210314T070000
END:DAYLIGHT
BEGIN:STANDARD
TZOFFSETFROM:-0400
TZOFFSETTO:-0500
TZNAME:EST
DTSTART:20211107T060000
END:STANDARD
BEGIN:DAYLIGHT
TZOFFSETFROM:-0500
TZOFFSETTO:-0400
TZNAME:EDT
DTSTART:20220313T070000
END:DAYLIGHT
BEGIN:STANDARD
TZOFFSETFROM:-0400
TZOFFSETTO:-0500
TZNAME:EST
DTSTART:20221106T060000
END:STANDARD
END:VTIMEZONE
BEGIN:VEVENT
DTSTART;TZID=America/New_York:20211229T100000
DTEND;TZID=America/New_York:20211229T120000
DTSTAMP:20260420T033252
CREATED:20210901T035025Z
LAST-MODIFIED:20210901T035025Z
UID:10001297-1640772000-1640779200@www.crosbyscholarsiredell.org
SUMMARY:Jr / Sr  Academy : College Game: Are you ready to play? 12/29/21
DESCRIPTION:Come play The College Game on 12/29 from 10 AM to 12 PM!  \nIf you have any questions\, please contact Jenniffer Jamison\, Senior Program Coordinator\, at (704) 873-5005 ext. 11407 or jjamison@crosbyscholarsiredell.org \nLocation: Goodwill Workforce Development Center (124 Fourth Crescent Place\, Statesville\, NC 28625) \nRegistration must take place on the Student Portal.
URL:https://www.crosbyscholarsiredell.org/events/jr-sr-academy-college-game-are-you-ready-to-play-12-29-21/
CATEGORIES:Academy
END:VEVENT
END:VCALENDAR