BEGIN:VCALENDAR
VERSION:2.0
PRODID:-//Crosby Scholars Iredell - ECPv6.15.13.1//NONSGML v1.0//EN
CALSCALE:GREGORIAN
METHOD:PUBLISH
X-WR-CALNAME:Crosby Scholars Iredell
X-ORIGINAL-URL:https://www.crosbyscholarsiredell.org
X-WR-CALDESC:Events for Crosby Scholars Iredell
REFRESH-INTERVAL;VALUE=DURATION:PT1H
X-Robots-Tag:noindex
X-PUBLISHED-TTL:PT1H
BEGIN:VTIMEZONE
TZID:America/New_York
BEGIN:DAYLIGHT
TZOFFSETFROM:-0500
TZOFFSETTO:-0400
TZNAME:EDT
DTSTART:20200308T070000
END:DAYLIGHT
BEGIN:STANDARD
TZOFFSETFROM:-0400
TZOFFSETTO:-0500
TZNAME:EST
DTSTART:20201101T060000
END:STANDARD
BEGIN:DAYLIGHT
TZOFFSETFROM:-0500
TZOFFSETTO:-0400
TZNAME:EDT
DTSTART:20210314T070000
END:DAYLIGHT
BEGIN:STANDARD
TZOFFSETFROM:-0400
TZOFFSETTO:-0500
TZNAME:EST
DTSTART:20211107T060000
END:STANDARD
BEGIN:DAYLIGHT
TZOFFSETFROM:-0500
TZOFFSETTO:-0400
TZNAME:EDT
DTSTART:20220313T070000
END:DAYLIGHT
BEGIN:STANDARD
TZOFFSETFROM:-0400
TZOFFSETTO:-0500
TZNAME:EST
DTSTART:20221106T060000
END:STANDARD
END:VTIMEZONE
BEGIN:VEVENT
DTSTART;TZID=America/New_York:20211118T180000
DTEND;TZID=America/New_York:20211118T190000
DTSTAMP:20260420T022412
CREATED:20211026T144222Z
LAST-MODIFIED:20211026T144222Z
UID:10001323-1637258400-1637262000@www.crosbyscholarsiredell.org
SUMMARY:College 101 - Tips for Freshman Year
DESCRIPTION:ZOOM session – counts as Jr/Sr Academy – Now that you have applied to college\, what is next and how can I be best prepared to have a successful transition to college.
URL:https://www.crosbyscholarsiredell.org/events/college-101-tips-for-freshman-year/
CATEGORIES:Junior Academy,Senior Academy
END:VEVENT
BEGIN:VEVENT
DTSTART;TZID=America/New_York:20211118T183000
DTEND;TZID=America/New_York:20211118T193000
DTSTAMP:20260420T022412
CREATED:20210519T192529Z
LAST-MODIFIED:20210519T192529Z
UID:10001274-1637260200-1637263800@www.crosbyscholarsiredell.org
SUMMARY:6-8 Virtual Academy
DESCRIPTION:Zoom Academy for 6th-8th graders. Register in your student portal after July 5\, 2021.
URL:https://www.crosbyscholarsiredell.org/events/6-8-virtual-academy/
LOCATION:Online\, NC\, United States
CATEGORIES:6th Grade Academy,7th & 8th Grade Academy,Academy
ORGANIZER;CN="Iredell Crosby Scholars":MAILTO:info@crosbyscholarsiredell.org
END:VEVENT
BEGIN:VEVENT
DTSTART;TZID=America/New_York:20211120T100000
DTEND;TZID=America/New_York:20211120T110000
DTSTAMP:20260420T022412
CREATED:20211026T144038Z
LAST-MODIFIED:20211026T144038Z
UID:10001322-1637402400-1637406000@www.crosbyscholarsiredell.org
SUMMARY:Reviewing Financial Aid Award Letters
DESCRIPTION:After you are accepted you will need to compare Award Letters.  This zoom session walks you through sample award letters and how to make sure you select the correct school and understand the costs. \n 
URL:https://www.crosbyscholarsiredell.org/events/reviewing-financial-aid-award-letters/
CATEGORIES:Junior Academy,Parent Academy,Senior Academy
END:VEVENT
END:VCALENDAR