BEGIN:VCALENDAR
VERSION:2.0
PRODID:-//Crosby Scholars Iredell - ECPv6.15.13.1//NONSGML v1.0//EN
CALSCALE:GREGORIAN
METHOD:PUBLISH
X-WR-CALNAME:Crosby Scholars Iredell
X-ORIGINAL-URL:https://www.crosbyscholarsiredell.org
X-WR-CALDESC:Events for Crosby Scholars Iredell
REFRESH-INTERVAL;VALUE=DURATION:PT1H
X-Robots-Tag:noindex
X-PUBLISHED-TTL:PT1H
BEGIN:VTIMEZONE
TZID:America/New_York
BEGIN:DAYLIGHT
TZOFFSETFROM:-0500
TZOFFSETTO:-0400
TZNAME:EDT
DTSTART:20200308T070000
END:DAYLIGHT
BEGIN:STANDARD
TZOFFSETFROM:-0400
TZOFFSETTO:-0500
TZNAME:EST
DTSTART:20201101T060000
END:STANDARD
BEGIN:DAYLIGHT
TZOFFSETFROM:-0500
TZOFFSETTO:-0400
TZNAME:EDT
DTSTART:20210314T070000
END:DAYLIGHT
BEGIN:STANDARD
TZOFFSETFROM:-0400
TZOFFSETTO:-0500
TZNAME:EST
DTSTART:20211107T060000
END:STANDARD
BEGIN:DAYLIGHT
TZOFFSETFROM:-0500
TZOFFSETTO:-0400
TZNAME:EDT
DTSTART:20220313T070000
END:DAYLIGHT
BEGIN:STANDARD
TZOFFSETFROM:-0400
TZOFFSETTO:-0500
TZNAME:EST
DTSTART:20221106T060000
END:STANDARD
END:VTIMEZONE
BEGIN:VEVENT
DTSTART;TZID=America/New_York:20211020T180000
DTEND;TZID=America/New_York:20211020T190000
DTSTAMP:20260420T013412
CREATED:20211007T171427Z
LAST-MODIFIED:20211007T171504Z
UID:10001320-1634752800-1634756400@www.crosbyscholarsiredell.org
SUMMARY:Healthcare Know-How Academy
DESCRIPTION:Are you interested in pursuing a job in healthcare? Meet your academy requirement by joining Ms. Montgomery for an interactive zoom session! You will receive the webinar link the day before the event. \nOctober 20\, 2021 at 6PM \nLearning outcomes: \n\nWhat are the top healthcare jobs?\nWhat can I start doing in high school to prepare for a job in healthcare?\nHow to approach the pre-med track\nCharacteristics of people in healthcare careers\nWhat is a typical day like as a nurse\, a physician assistant\, a doctor\, etc?\nWhat does Mitchell Community College have to offer?\nWhy is it so important to plan early for a job in healthcare?
URL:https://www.crosbyscholarsiredell.org/events/healthcare-know-how-academy/
LOCATION:Iredell Crosby Scholars\, 124 Fourth Crescent Place\, Statesville\, NC\, 28625\, United States
CATEGORIES:Academy,Junior Academy,Senior Academy
END:VEVENT
BEGIN:VEVENT
DTSTART;TZID=America/New_York:20211023T100000
DTEND;TZID=America/New_York:20211023T120000
DTSTAMP:20260420T013412
CREATED:20210519T183831Z
LAST-MODIFIED:20210831T185603Z
UID:10001265-1634983200-1634990400@www.crosbyscholarsiredell.org
SUMMARY:All Grades 6-12 Academies
DESCRIPTION:Statesville MCC Location. Register in your portal after July 5\, 2021. \nThis Academy is for all grade levels (6-12).
URL:https://www.crosbyscholarsiredell.org/events/6-12-academies-3/
LOCATION:Mitchell Community College Statesville Campus\, 500 West Broad Street\, Statesville\, NC\, 28677\, United States
CATEGORIES:6th Grade Academy,7th & 8th Grade Academy,9th & 10th Grade Academy,Academy,Junior Academy,Parent Academy,Senior Academy
ORGANIZER;CN="Iredell Crosby Scholars":MAILTO:info@crosbyscholarsiredell.org
END:VEVENT
BEGIN:VEVENT
DTSTART;TZID=America/New_York:20211023T100000
DTEND;TZID=America/New_York:20211023T120000
DTSTAMP:20260420T013412
CREATED:20210526T022556Z
LAST-MODIFIED:20210920T165334Z
UID:10001281-1634983200-1634990400@www.crosbyscholarsiredell.org
SUMMARY:JR/SR Academy: Financial Aid - w/ Guest Speaker from Davidson College
DESCRIPTION:Join this in person session on financial aid.  Students who attend will receive Academy Credit. \nWhen? 10AM \nWhere? Mitchell Community College\, Statesville Campus
URL:https://www.crosbyscholarsiredell.org/events/parent-academy-financial-aid/
CATEGORIES:Junior Academy,Parent Academy,Senior Academy,Special Event
ATTACH;FMTTYPE=image/png:https://www.crosbyscholarsiredell.org/wp-content/uploads/sites/4/2021/08/financial-aid-academy-less-wordy-2.png
END:VEVENT
BEGIN:VEVENT
DTSTART;TZID=America/New_York:20211023T100000
DTEND;TZID=America/New_York:20211023T120000
DTSTAMP:20260420T013412
CREATED:20210920T165230Z
LAST-MODIFIED:20210920T165230Z
UID:10001305-1634983200-1634990400@www.crosbyscholarsiredell.org
SUMMARY:Parent Academy: Financial Aid - w/ Guest Speaker from Davidson College  Copy
DESCRIPTION:Join this parent session on financial aid while your student attends the Academy! \nWhen? 10AM \nWhere? Mitchell Community College\, Statesville Campus
URL:https://www.crosbyscholarsiredell.org/events/parent-academy-financial-aid-copy/
CATEGORIES:Junior Academy,Parent Academy,Senior Academy,Special Event
ATTACH;FMTTYPE=image/png:https://www.crosbyscholarsiredell.org/wp-content/uploads/sites/4/2021/08/financial-aid-academy-less-wordy-2.png
END:VEVENT
END:VCALENDAR