BEGIN:VCALENDAR
VERSION:2.0
PRODID:-//Crosby Scholars Iredell - ECPv6.15.13.1//NONSGML v1.0//EN
CALSCALE:GREGORIAN
METHOD:PUBLISH
X-WR-CALNAME:Crosby Scholars Iredell
X-ORIGINAL-URL:https://www.crosbyscholarsiredell.org
X-WR-CALDESC:Events for Crosby Scholars Iredell
REFRESH-INTERVAL;VALUE=DURATION:PT1H
X-Robots-Tag:noindex
X-PUBLISHED-TTL:PT1H
BEGIN:VTIMEZONE
TZID:America/New_York
BEGIN:DAYLIGHT
TZOFFSETFROM:-0500
TZOFFSETTO:-0400
TZNAME:EDT
DTSTART:20200308T070000
END:DAYLIGHT
BEGIN:STANDARD
TZOFFSETFROM:-0400
TZOFFSETTO:-0500
TZNAME:EST
DTSTART:20201101T060000
END:STANDARD
BEGIN:DAYLIGHT
TZOFFSETFROM:-0500
TZOFFSETTO:-0400
TZNAME:EDT
DTSTART:20210314T070000
END:DAYLIGHT
BEGIN:STANDARD
TZOFFSETFROM:-0400
TZOFFSETTO:-0500
TZNAME:EST
DTSTART:20211107T060000
END:STANDARD
BEGIN:DAYLIGHT
TZOFFSETFROM:-0500
TZOFFSETTO:-0400
TZNAME:EDT
DTSTART:20220313T070000
END:DAYLIGHT
BEGIN:STANDARD
TZOFFSETFROM:-0400
TZOFFSETTO:-0500
TZNAME:EST
DTSTART:20221106T060000
END:STANDARD
END:VTIMEZONE
BEGIN:VEVENT
DTSTART;TZID=America/New_York:20211012T100000
DTEND;TZID=America/New_York:20211012T110000
DTSTAMP:20260420T013607
CREATED:20210927T155749Z
LAST-MODIFIED:20210927T155749Z
UID:10001313-1634032800-1634036400@www.crosbyscholarsiredell.org
SUMMARY:Jr/Sr Academy College Access - What Should you KNOW?
DESCRIPTION:Zoom Session – Offered during MGSD Fall Break to give access to complete Jr/Sr Academy Credit. \n 
URL:https://www.crosbyscholarsiredell.org/events/jr-sr-academy-college-access-what-should-you-know/
CATEGORIES:Junior Academy,Senior Academy
END:VEVENT
END:VCALENDAR