BEGIN:VCALENDAR
VERSION:2.0
PRODID:-//Crosby Scholars Iredell - ECPv6.15.13.1//NONSGML v1.0//EN
CALSCALE:GREGORIAN
METHOD:PUBLISH
X-WR-CALNAME:Crosby Scholars Iredell
X-ORIGINAL-URL:https://www.crosbyscholarsiredell.org
X-WR-CALDESC:Events for Crosby Scholars Iredell
REFRESH-INTERVAL;VALUE=DURATION:PT1H
X-Robots-Tag:noindex
X-PUBLISHED-TTL:PT1H
BEGIN:VTIMEZONE
TZID:America/New_York
BEGIN:DAYLIGHT
TZOFFSETFROM:-0500
TZOFFSETTO:-0400
TZNAME:EDT
DTSTART:20230312T070000
END:DAYLIGHT
BEGIN:STANDARD
TZOFFSETFROM:-0400
TZOFFSETTO:-0500
TZNAME:EST
DTSTART:20231105T060000
END:STANDARD
BEGIN:DAYLIGHT
TZOFFSETFROM:-0500
TZOFFSETTO:-0400
TZNAME:EDT
DTSTART:20240310T070000
END:DAYLIGHT
BEGIN:STANDARD
TZOFFSETFROM:-0400
TZOFFSETTO:-0500
TZNAME:EST
DTSTART:20241103T060000
END:STANDARD
BEGIN:DAYLIGHT
TZOFFSETFROM:-0500
TZOFFSETTO:-0400
TZNAME:EDT
DTSTART:20250309T070000
END:DAYLIGHT
BEGIN:STANDARD
TZOFFSETFROM:-0400
TZOFFSETTO:-0500
TZNAME:EST
DTSTART:20251102T060000
END:STANDARD
END:VTIMEZONE
BEGIN:VEVENT
DTSTART;TZID=America/New_York:20240709T103000
DTEND;TZID=America/New_York:20240709T143000
DTSTAMP:20260420T132720
CREATED:20240430T161043Z
LAST-MODIFIED:20240513T192012Z
UID:10001557-1720521000-1720535400@www.crosbyscholarsiredell.org
SUMMARY:Try It Tuesday - Explore the Legal System (Law Enforcement\, County Jail\, and Public Defender's Office)
DESCRIPTION:Ever wonder what it takes to be an attorney?  A judge? Considering a career in the criminal justice field?  If so\, this Try-it-Tuesday is for you! \nWe’ll start the day with brunch/lunch\, and then take a tour of the Iredell County Hall of Justice/Courthouse from noon to 1pm. We will hear from an attorney (Iredell County Public Defender’s Office)\, a judge\, and there will be an opportunity to ask questions about careers in law.  From there we walk over to the Iredell County Jail and Detention Center for a tour and questions about the criminal law process\, along with information about jobs in other areas of the criminal justice system. \nRegister directly in your Crosby Portal!
URL:https://www.crosbyscholarsiredell.org/events/try-it-tuesday-explore-the-legal-system-law-enforcement-county-jail-and-public-defenders-office/
LOCATION:Goodwill Career Connections Center\, 124 Fourth Crescent Place\, Statesville\, NC\, 28625\, United States
CATEGORIES:Academy
ORGANIZER;CN="Iredell Crosby Scholars":MAILTO:info@crosbyscholarsiredell.org
END:VEVENT
END:VCALENDAR