BEGIN:VCALENDAR
VERSION:2.0
PRODID:-//Crosby Scholars Iredell - ECPv6.15.13.1//NONSGML v1.0//EN
CALSCALE:GREGORIAN
METHOD:PUBLISH
X-ORIGINAL-URL:https://www.crosbyscholarsiredell.org
X-WR-CALDESC:Events for Crosby Scholars Iredell
REFRESH-INTERVAL;VALUE=DURATION:PT1H
X-Robots-Tag:noindex
X-PUBLISHED-TTL:PT1H
BEGIN:VTIMEZONE
TZID:America/New_York
BEGIN:DAYLIGHT
TZOFFSETFROM:-0500
TZOFFSETTO:-0400
TZNAME:EDT
DTSTART:20210314T070000
END:DAYLIGHT
BEGIN:STANDARD
TZOFFSETFROM:-0400
TZOFFSETTO:-0500
TZNAME:EST
DTSTART:20211107T060000
END:STANDARD
BEGIN:DAYLIGHT
TZOFFSETFROM:-0500
TZOFFSETTO:-0400
TZNAME:EDT
DTSTART:20220313T070000
END:DAYLIGHT
BEGIN:STANDARD
TZOFFSETFROM:-0400
TZOFFSETTO:-0500
TZNAME:EST
DTSTART:20221106T060000
END:STANDARD
BEGIN:DAYLIGHT
TZOFFSETFROM:-0500
TZOFFSETTO:-0400
TZNAME:EDT
DTSTART:20230312T070000
END:DAYLIGHT
BEGIN:STANDARD
TZOFFSETFROM:-0400
TZOFFSETTO:-0500
TZNAME:EST
DTSTART:20231105T060000
END:STANDARD
END:VTIMEZONE
BEGIN:VEVENT
DTSTART;TZID=America/New_York:20220125T180000
DTEND;TZID=America/New_York:20220125T190000
DTSTAMP:20260420T205648
CREATED:20210907T205848Z
LAST-MODIFIED:20210907T205848Z
UID:10001302-1643133600-1643137200@www.crosbyscholarsiredell.org
SUMMARY:Tips to land your 1st JOB!  9th/10th Grade ZOOM- Virtual
DESCRIPTION:Join this Zoom/Virtual Academy for a fun peak in to how to land your 1st Job!  Whether you are looking for a part-time job in High School\, something over the summer\, or more\, these tips will help grow your confidence before that first job application or interview.  Look forward to seeing you there! \nPlease register on the Student Portal.
URL:https://www.crosbyscholarsiredell.org/events/tips-to-land-your-1st-job-9th-10th-grade-zoom-virtual/
CATEGORIES:Academy
END:VEVENT
END:VCALENDAR