BEGIN:VCALENDAR
VERSION:2.0
PRODID:-//Crosby Scholars Iredell - ECPv6.15.13.1//NONSGML v1.0//EN
CALSCALE:GREGORIAN
METHOD:PUBLISH
X-WR-CALNAME:Crosby Scholars Iredell
X-ORIGINAL-URL:https://www.crosbyscholarsiredell.org
X-WR-CALDESC:Events for Crosby Scholars Iredell
REFRESH-INTERVAL;VALUE=DURATION:PT1H
X-Robots-Tag:noindex
X-PUBLISHED-TTL:PT1H
BEGIN:VTIMEZONE
TZID:America/New_York
BEGIN:DAYLIGHT
TZOFFSETFROM:-0500
TZOFFSETTO:-0400
TZNAME:EDT
DTSTART:20200308T070000
END:DAYLIGHT
BEGIN:STANDARD
TZOFFSETFROM:-0400
TZOFFSETTO:-0500
TZNAME:EST
DTSTART:20201101T060000
END:STANDARD
BEGIN:DAYLIGHT
TZOFFSETFROM:-0500
TZOFFSETTO:-0400
TZNAME:EDT
DTSTART:20210314T070000
END:DAYLIGHT
BEGIN:STANDARD
TZOFFSETFROM:-0400
TZOFFSETTO:-0500
TZNAME:EST
DTSTART:20211107T060000
END:STANDARD
BEGIN:DAYLIGHT
TZOFFSETFROM:-0500
TZOFFSETTO:-0400
TZNAME:EDT
DTSTART:20220313T070000
END:DAYLIGHT
BEGIN:STANDARD
TZOFFSETFROM:-0400
TZOFFSETTO:-0500
TZNAME:EST
DTSTART:20221106T060000
END:STANDARD
END:VTIMEZONE
BEGIN:VEVENT
DTSTART;TZID=America/New_York:20211004T180000
DTEND;TZID=America/New_York:20211004T190000
DTSTAMP:20260419T210929
CREATED:20210519T192027Z
LAST-MODIFIED:20210829T163826Z
UID:10001272-1633370400-1633374000@www.crosbyscholarsiredell.org
SUMMARY:9th/10th Virtual Academy-Tips to land your first job
DESCRIPTION:Need some tips on how to land your first job? \nZoom Academy for 9th & 10th graders. Register in your student portal after Aug. 1\, 2021.
URL:https://www.crosbyscholarsiredell.org/events/9th-10th-virtual-academy-2/
LOCATION:Online\, NC\, United States
CATEGORIES:9th & 10th Grade Academy,Academy
END:VEVENT
BEGIN:VEVENT
DTSTART;TZID=America/New_York:20211004T180000
DTEND;TZID=America/New_York:20211004T190000
DTSTAMP:20260419T210929
CREATED:20210831T185414Z
LAST-MODIFIED:20210920T165004Z
UID:10001296-1633370400-1633374000@www.crosbyscholarsiredell.org
SUMMARY:JR/SR Academy--ZOOM -- Understanding the Financial Aid Process w/Davidson College
DESCRIPTION:In normal years Financial Aid seems like a high-stakes maze teeming with acronyms\, deadlines\, and detailed requirements. Add a global pandemic and many exceptions to your financial picture and you have a new game. This academy will set out a road map for you to understand and get through the financial aid process successfully. This academy is hosted by Anna Stovall\, Asst. Director of Financial Aid\, Davidson College. \nRegistration must take place on the Student Portal. \nIf you have any questions\, please contact Jenniffer Jamison\, Senior Program Coordinator\, at (704) 873-5005 ext 1426 or jjamison@crosbyscholarsiredell.org \nOctober 4\, 2021 6pm – 7 pm \nZoom Link to be shared at a later time.
URL:https://www.crosbyscholarsiredell.org/events/jr-sr-academy-zoom-understanding-the-financial-aid-process/
CATEGORIES:Academy
ATTACH;FMTTYPE=image/png:https://www.crosbyscholarsiredell.org/wp-content/uploads/sites/4/2021/08/financial-aid-academy-less-wordy-2.png
END:VEVENT
BEGIN:VEVENT
DTSTART;TZID=America/New_York:20211004T180000
DTEND;TZID=America/New_York:20211004T190000
DTSTAMP:20260419T210929
CREATED:20210920T164735Z
LAST-MODIFIED:20210920T164735Z
UID:10001304-1633370400-1633374000@www.crosbyscholarsiredell.org
SUMMARY:JR/SR Academy - Selective College Admissions Q&A with Duke University
DESCRIPTION:Crosby Scholars will host a Selective College Admissions Q&A with Cole Wicker\, regional admissions representative from Duke University. Come and learn what is involved in the admissions process with selective colleges and universities.
URL:https://www.crosbyscholarsiredell.org/events/jr-sr-academy-selective-college-admissions-qa-with-duke-university/
CATEGORIES:Junior Academy,Online Academy,Senior Academy,Special Event
ATTACH;FMTTYPE=image/png:https://www.crosbyscholarsiredell.org/wp-content/uploads/sites/4/2021/09/Selective-Admissions-academy-2021.png
END:VEVENT
END:VCALENDAR