BEGIN:VCALENDAR
VERSION:2.0
PRODID:-//Crosby Scholars Iredell - ECPv6.15.13.1//NONSGML v1.0//EN
CALSCALE:GREGORIAN
METHOD:PUBLISH
X-WR-CALNAME:Crosby Scholars Iredell
X-ORIGINAL-URL:https://www.crosbyscholarsiredell.org
X-WR-CALDESC:Events for Crosby Scholars Iredell
REFRESH-INTERVAL;VALUE=DURATION:PT1H
X-Robots-Tag:noindex
X-PUBLISHED-TTL:PT1H
BEGIN:VTIMEZONE
TZID:America/New_York
BEGIN:DAYLIGHT
TZOFFSETFROM:-0500
TZOFFSETTO:-0400
TZNAME:EDT
DTSTART:20210314T070000
END:DAYLIGHT
BEGIN:STANDARD
TZOFFSETFROM:-0400
TZOFFSETTO:-0500
TZNAME:EST
DTSTART:20211107T060000
END:STANDARD
BEGIN:DAYLIGHT
TZOFFSETFROM:-0500
TZOFFSETTO:-0400
TZNAME:EDT
DTSTART:20220313T070000
END:DAYLIGHT
BEGIN:STANDARD
TZOFFSETFROM:-0400
TZOFFSETTO:-0500
TZNAME:EST
DTSTART:20221106T060000
END:STANDARD
BEGIN:DAYLIGHT
TZOFFSETFROM:-0500
TZOFFSETTO:-0400
TZNAME:EDT
DTSTART:20230312T070000
END:DAYLIGHT
BEGIN:STANDARD
TZOFFSETFROM:-0400
TZOFFSETTO:-0500
TZNAME:EST
DTSTART:20231105T060000
END:STANDARD
END:VTIMEZONE
BEGIN:VEVENT
DTSTART;TZID=America/New_York:20220314T190000
DTEND;TZID=America/New_York:20220314T200000
DTSTAMP:20260419T172717
CREATED:20220303T152652Z
LAST-MODIFIED:20220303T152652Z
UID:10001359-1647284400-1647288000@www.crosbyscholarsiredell.org
SUMMARY:Communications Zoom Academy 9th/10th Grade
DESCRIPTION:Join us 7pm-8pm for our Freshmen/Sophomore Communications Academy!
URL:https://www.crosbyscholarsiredell.org/events/communications-zoom-academy-9th-10th-grade/
CATEGORIES:9th & 10th Grade Academy
END:VEVENT
BEGIN:VEVENT
DTSTART;TZID=America/New_York:20220319T100000
DTEND;TZID=America/New_York:20220319T130000
DTSTAMP:20260419T172717
CREATED:20220301T164239Z
LAST-MODIFIED:20220301T164239Z
UID:10001355-1647684000-1647694800@www.crosbyscholarsiredell.org
SUMMARY:Mitchell Open House - Attend & receive Academy Credit
DESCRIPTION:Mitchell is hosting their open house from 10 am – 1 pm on the Statesville Campus.  Attend this drop in event and check in with the Crosby Scholars table to receive Academy Credit. \n 
URL:https://www.crosbyscholarsiredell.org/events/mitchell-open-house-attend-receive-academy-credit/
CATEGORIES:6th Grade Academy,7th & 8th Grade Academy,9th & 10th Grade Academy,Academy,Junior Academy,Parent Academy,Senior Academy,Special Event
END:VEVENT
BEGIN:VEVENT
DTSTART;TZID=America/New_York:20220324T180000
DTEND;TZID=America/New_York:20220324T190000
DTSTAMP:20260419T172717
CREATED:20220303T152926Z
LAST-MODIFIED:20220303T152926Z
UID:10001360-1648144800-1648148400@www.crosbyscholarsiredell.org
SUMMARY:Money\, Money\, Money!  9th/10th Grade Financial Literacy Zoom
DESCRIPTION:Join us on our Zoom MONEY call as we use a cool tool to plan for the future you hope to have (just what kind of job is needed to support your needs and wants?!). \nWe will also explore things to consider when planning your financial future as well as basic financial terms (debit card\, credit card\, expenses and budgeting).
URL:https://www.crosbyscholarsiredell.org/events/money-money-money-9th-10th-grade-financial-literacy-zoom/
CATEGORIES:9th & 10th Grade Academy
END:VEVENT
BEGIN:VEVENT
DTSTART;TZID=America/New_York:20220329T180000
DTEND;TZID=America/New_York:20220329T190000
DTSTAMP:20260419T172717
CREATED:20220303T152957Z
LAST-MODIFIED:20220303T153117Z
UID:10001361-1648576800-1648580400@www.crosbyscholarsiredell.org
SUMMARY:Money\, Money\, Money!  9th/10th Grade Financial Literacy Zoom Copy
DESCRIPTION:Join us on our Zoom MONEY call as we use a cool tool to plan for the future you hope to have (just what kind of job is needed to support your needs and wants?!). \nWe will also explore things to consider when planning your financial future as well as basic financial terms (debit card\, credit card\, expenses and budgeting).
URL:https://www.crosbyscholarsiredell.org/events/money-money-money-9th-10th-grade-financial-literacy-zoom-copy/
CATEGORIES:9th & 10th Grade Academy
END:VEVENT
END:VCALENDAR