BEGIN:VCALENDAR
VERSION:2.0
PRODID:-//Crosby Scholars Iredell - ECPv6.15.13.1//NONSGML v1.0//EN
CALSCALE:GREGORIAN
METHOD:PUBLISH
X-WR-CALNAME:Crosby Scholars Iredell
X-ORIGINAL-URL:https://www.crosbyscholarsiredell.org
X-WR-CALDESC:Events for Crosby Scholars Iredell
REFRESH-INTERVAL;VALUE=DURATION:PT1H
X-Robots-Tag:noindex
X-PUBLISHED-TTL:PT1H
BEGIN:VTIMEZONE
TZID:America/New_York
BEGIN:DAYLIGHT
TZOFFSETFROM:-0500
TZOFFSETTO:-0400
TZNAME:EDT
DTSTART:20210314T070000
END:DAYLIGHT
BEGIN:STANDARD
TZOFFSETFROM:-0400
TZOFFSETTO:-0500
TZNAME:EST
DTSTART:20211107T060000
END:STANDARD
BEGIN:DAYLIGHT
TZOFFSETFROM:-0500
TZOFFSETTO:-0400
TZNAME:EDT
DTSTART:20220313T070000
END:DAYLIGHT
BEGIN:STANDARD
TZOFFSETFROM:-0400
TZOFFSETTO:-0500
TZNAME:EST
DTSTART:20221106T060000
END:STANDARD
BEGIN:DAYLIGHT
TZOFFSETFROM:-0500
TZOFFSETTO:-0400
TZNAME:EDT
DTSTART:20230312T070000
END:DAYLIGHT
BEGIN:STANDARD
TZOFFSETFROM:-0400
TZOFFSETTO:-0500
TZNAME:EST
DTSTART:20231105T060000
END:STANDARD
END:VTIMEZONE
BEGIN:VEVENT
DTSTART;TZID=America/New_York:20220205T100000
DTEND;TZID=America/New_York:20220205T120000
DTSTAMP:20260419T192839
CREATED:20210519T185432Z
LAST-MODIFIED:20210519T195042Z
UID:10001268-1644055200-1644062400@www.crosbyscholarsiredell.org
SUMMARY:6-12 Academies
DESCRIPTION:Explore Community College at Statesville MCC Campus. Register in your portal after July 5\, 2021.
URL:https://www.crosbyscholarsiredell.org/events/6-12-academies-8/
LOCATION:Mitchell Community College Statesville Campus\, 500 West Broad Street\, Statesville\, NC\, 28677\, United States
CATEGORIES:6th Grade Academy,7th & 8th Grade Academy,9th & 10th Grade Academy,Academy,Junior Academy,Parent Academy,Senior Academy
ORGANIZER;CN="Iredell Crosby Scholars":MAILTO:info@crosbyscholarsiredell.org
END:VEVENT
BEGIN:VEVENT
DTSTART;TZID=America/New_York:20220209T190000
DTEND;TZID=America/New_York:20220209T200000
DTSTAMP:20260419T192839
CREATED:20220120T235711Z
LAST-MODIFIED:20220120T235711Z
UID:10001338-1644433200-1644436800@www.crosbyscholarsiredell.org
SUMMARY:Communication!  What does your body language say about you?!  9th/10th Grade ZOOM- Virtual ACADEMY 7pm-8pm
DESCRIPTION:Join this Zoom/Virtual Academy to learn more about communication: \n*What are you telling your peers and teachers with your body language and facial expressions?\n*Being aware of the importance of these skills and learning to improve them is critical to college and job success!\n*Learn how to send the messages you intend to convey without unintended interference. \nRegister through the student or parent portal on the Crosby Scholars website homepage (click on blue person icon at the top)
URL:https://www.crosbyscholarsiredell.org/events/communication-what-does-your-body-language-say-about-you-9th-10th-grade-zoom-virtual-academy-7pm-8pm/
CATEGORIES:9th & 10th Grade Academy
ORGANIZER;CN="Crosby Scholars":MAILTO:info@crosbyscholarsiredell.org
END:VEVENT
BEGIN:VEVENT
DTSTART;TZID=America/New_York:20220212T100000
DTEND;TZID=America/New_York:20220212T110000
DTSTAMP:20260419T192839
CREATED:20220121T000132Z
LAST-MODIFIED:20220121T000132Z
UID:10001339-1644660000-1644663600@www.crosbyscholarsiredell.org
SUMMARY:Communication!  What does your body language say about you?!  9th/10th Grade ZOOM- Virtual ACADEMY 10am-11am
DESCRIPTION:Join this Zoom/Virtual Academy to learn more about communication: \n*What are you telling your peers and teachers with your body language and facial expressions?\n*Being aware of the importance of these skills and learning to improve them is critical to college and job success!\n*Learn how to send the messages you intend to convey without unintended interference. \nRegister through the student or parent portal on the Crosby Scholars website home page (click blue person icon at top of page)
URL:https://www.crosbyscholarsiredell.org/events/communication-what-does-your-body-language-say-about-you-9th-10th-grade-zoom-virtual-academy-10am-11am/
CATEGORIES:9th & 10th Grade Academy
ORGANIZER;CN="Crosby Scholars":MAILTO:info@crosbyscholarsiredell.org
END:VEVENT
END:VCALENDAR