BEGIN:VCALENDAR
VERSION:2.0
PRODID:-//Crosby Scholars Iredell - ECPv6.15.13.1//NONSGML v1.0//EN
CALSCALE:GREGORIAN
METHOD:PUBLISH
X-WR-CALNAME:Crosby Scholars Iredell
X-ORIGINAL-URL:https://www.crosbyscholarsiredell.org
X-WR-CALDESC:Events for Crosby Scholars Iredell
REFRESH-INTERVAL;VALUE=DURATION:PT1H
X-Robots-Tag:noindex
X-PUBLISHED-TTL:PT1H
BEGIN:VTIMEZONE
TZID:America/New_York
BEGIN:DAYLIGHT
TZOFFSETFROM:-0500
TZOFFSETTO:-0400
TZNAME:EDT
DTSTART:20200308T070000
END:DAYLIGHT
BEGIN:STANDARD
TZOFFSETFROM:-0400
TZOFFSETTO:-0500
TZNAME:EST
DTSTART:20201101T060000
END:STANDARD
BEGIN:DAYLIGHT
TZOFFSETFROM:-0500
TZOFFSETTO:-0400
TZNAME:EDT
DTSTART:20210314T070000
END:DAYLIGHT
BEGIN:STANDARD
TZOFFSETFROM:-0400
TZOFFSETTO:-0500
TZNAME:EST
DTSTART:20211107T060000
END:STANDARD
BEGIN:DAYLIGHT
TZOFFSETFROM:-0500
TZOFFSETTO:-0400
TZNAME:EDT
DTSTART:20220313T070000
END:DAYLIGHT
BEGIN:STANDARD
TZOFFSETFROM:-0400
TZOFFSETTO:-0500
TZNAME:EST
DTSTART:20221106T060000
END:STANDARD
END:VTIMEZONE
BEGIN:VEVENT
DTSTART;TZID=America/New_York:20210908T180000
DTEND;TZID=America/New_York:20210908T190000
DTSTAMP:20260419T120042
CREATED:20210901T153552Z
LAST-MODIFIED:20210901T153552Z
UID:10001299-1631124000-1631127600@www.crosbyscholarsiredell.org
SUMMARY:Jr/Sr Academy - ECU Interview with a College Admissions Counselor
DESCRIPTION:
URL:https://www.crosbyscholarsiredell.org/events/jr-sr-academy-ecu-interview-with-a-college-admissions-counselor/
CATEGORIES:Junior Academy,Senior Academy,Special Event
END:VEVENT
BEGIN:VEVENT
DTSTART;TZID=America/New_York:20210916T180000
DTEND;TZID=America/New_York:20210916T190000
DTSTAMP:20260419T120042
CREATED:20210519T191245Z
LAST-MODIFIED:20210519T191245Z
UID:10001269-1631815200-1631818800@www.crosbyscholarsiredell.org
SUMMARY:7th/8th Virtual Academy
DESCRIPTION:Zoom Academy for 7th/8th graders. Register in your student portal after July 5\, 2021.
URL:https://www.crosbyscholarsiredell.org/events/7th-8th-virtual-academy/
LOCATION:Online\, NC\, United States
CATEGORIES:7th & 8th Grade Academy,Academy
ORGANIZER;CN="Iredell Crosby Scholars":MAILTO:info@crosbyscholarsiredell.org
END:VEVENT
BEGIN:VEVENT
DTSTART;TZID=America/New_York:20210916T180000
DTEND;TZID=America/New_York:20210916T190000
DTSTAMP:20260419T120042
CREATED:20210901T142656Z
LAST-MODIFIED:20210901T142656Z
UID:10001298-1631815200-1631818800@www.crosbyscholarsiredell.org
SUMMARY:Conversation with College Admissions Counselors (NCSU\, UNCC\, & ASU)
DESCRIPTION:We have invited 3 college admissions officers from NC schools! Join this webinar to hear how NC State\, UNC Charlotte\, and Appalachian State University are handling the college applications process. A zoom link will be sent the day before the event. For questions prior to the event\, email Noah Baldwin at nbaldwin@crosbyscholarsiredell.org. If you have any issues joining the session\, please contact Jenniffer Jamison at jjamison@crosbyscholarsiredell.org.
URL:https://www.crosbyscholarsiredell.org/events/conversation-with-college-admissions-counselors-ncsu-uncc-asu/
LOCATION:Online\, NC\, United States
CATEGORIES:Academy
ORGANIZER;CN="Iredell Crosby Scholars":MAILTO:info@crosbyscholarsiredell.org
END:VEVENT
BEGIN:VEVENT
DTSTART;TZID=America/New_York:20210918T100000
DTEND;TZID=America/New_York:20210918T120000
DTSTAMP:20260419T120042
CREATED:20210519T183710Z
LAST-MODIFIED:20210901T031057Z
UID:10001264-1631959200-1631966400@www.crosbyscholarsiredell.org
SUMMARY:All Grades 6-12 Academies
DESCRIPTION:Mooresville MCC Location. Register in your portal after Aug. 1\, 2021. \nThis Academy is for all grade levels (6-12).
URL:https://www.crosbyscholarsiredell.org/events/6-12-academies-2/
CATEGORIES:6th Grade Academy,7th & 8th Grade Academy,9th & 10th Grade Academy,Academy,Junior Academy,Parent Academy,Senior Academy
ORGANIZER;CN="Iredell Crosby Scholars":MAILTO:info@crosbyscholarsiredell.org
END:VEVENT
BEGIN:VEVENT
DTSTART;TZID=America/New_York:20210922T190000
DTEND;TZID=America/New_York:20210922T200000
DTSTAMP:20260419T120042
CREATED:20210830T222434Z
LAST-MODIFIED:20210831T185025Z
UID:10001295-1632337200-1632340800@www.crosbyscholarsiredell.org
SUMMARY:Jr/Sr Academy - Scholarship Workshop - Zoom
DESCRIPTION:Paying for college can be a challenge.  There are many different ways to fund your education.  We will discuss scholarships\, where to find them\, how to apply & how to be successful in obtaining.  We will spend some time searching online and before you leave you will have a list of scholarships specifically for you!  \nIf you have any questions\, please contact Jenniffer Jamison\, the Senior Program Coordinator at 704-873-5005 ext. 11407 or jjamison@crosbyscholarsiredell.org. \nRegister for this event on your Student Portal.
URL:https://www.crosbyscholarsiredell.org/events/jr-sr-academy-scholarship-workshop-zoom/
CATEGORIES:Academy
END:VEVENT
BEGIN:VEVENT
DTSTART;TZID=America/New_York:20210928T180000
DTEND;TZID=America/New_York:20210928T190000
DTSTAMP:20260419T120042
CREATED:20210901T153710Z
LAST-MODIFIED:20210901T153710Z
UID:10001300-1632852000-1632855600@www.crosbyscholarsiredell.org
SUMMARY:Jr/Sr Academy - UNCW Interview with an Admissions Counselor
DESCRIPTION:
URL:https://www.crosbyscholarsiredell.org/events/jr-sr-academy-uncw-interview-with-an-admissions-counselor/
CATEGORIES:Junior Academy,Senior Academy,Special Event
END:VEVENT
BEGIN:VEVENT
DTSTART;TZID=America/New_York:20210930T180000
DTEND;TZID=America/New_York:20210930T190000
DTSTAMP:20260419T120042
CREATED:20210519T191459Z
LAST-MODIFIED:20210829T163304Z
UID:10001270-1633024800-1633028400@www.crosbyscholarsiredell.org
SUMMARY:9th/10th Virtual Academy-Personality Profile
DESCRIPTION:Get to know YOU! Personality Profile. \nZoom Academy for grades 9 & 10. Register on your Student Portal!
URL:https://www.crosbyscholarsiredell.org/events/9th-10th-virtual-academy/
LOCATION:Online\, NC\, United States
CATEGORIES:9th & 10th Grade Academy,Academy
ORGANIZER;CN="Iredell Crosby Scholars":MAILTO:info@crosbyscholarsiredell.org
END:VEVENT
END:VCALENDAR