BEGIN:VCALENDAR
VERSION:2.0
PRODID:-//Crosby Scholars Iredell - ECPv6.15.13.1//NONSGML v1.0//EN
CALSCALE:GREGORIAN
METHOD:PUBLISH
X-WR-CALNAME:Crosby Scholars Iredell
X-ORIGINAL-URL:https://www.crosbyscholarsiredell.org
X-WR-CALDESC:Events for Crosby Scholars Iredell
REFRESH-INTERVAL;VALUE=DURATION:PT1H
X-Robots-Tag:noindex
X-PUBLISHED-TTL:PT1H
BEGIN:VTIMEZONE
TZID:America/New_York
BEGIN:DAYLIGHT
TZOFFSETFROM:-0500
TZOFFSETTO:-0400
TZNAME:EDT
DTSTART:20240310T070000
END:DAYLIGHT
BEGIN:STANDARD
TZOFFSETFROM:-0400
TZOFFSETTO:-0500
TZNAME:EST
DTSTART:20241103T060000
END:STANDARD
BEGIN:DAYLIGHT
TZOFFSETFROM:-0500
TZOFFSETTO:-0400
TZNAME:EDT
DTSTART:20250309T070000
END:DAYLIGHT
BEGIN:STANDARD
TZOFFSETFROM:-0400
TZOFFSETTO:-0500
TZNAME:EST
DTSTART:20251102T060000
END:STANDARD
BEGIN:DAYLIGHT
TZOFFSETFROM:-0500
TZOFFSETTO:-0400
TZNAME:EDT
DTSTART:20260308T070000
END:DAYLIGHT
BEGIN:STANDARD
TZOFFSETFROM:-0400
TZOFFSETTO:-0500
TZNAME:EST
DTSTART:20261101T060000
END:STANDARD
END:VTIMEZONE
BEGIN:VEVENT
DTSTART;TZID=America/New_York:20251007T180000
DTEND;TZID=America/New_York:20251007T190000
DTSTAMP:20260420T102715
CREATED:20250916T153152Z
LAST-MODIFIED:20250916T153546Z
UID:10001731-1759860000-1759863600@www.crosbyscholarsiredell.org
SUMMARY:FREE WEBINAR: Financial Aid: How to Complete the 2026-27 FAFSA
DESCRIPTION:The Free Application for Federal Student Aid (FAFSA) for the 2026–27 school year is scheduled to open Oct. 1! Correctly filling out the FAFSA form is a key step in funding your college education! Join us for a FREE virtual webinar\, Financial Aid: How to Complete the 2026-27 FAFSA\, on October 7th at 6pm. \nJoin from PC\, Mac\, iPad\, or Android: \nhttps://goodwillnwnc.zoom.us/j/83790270871?pwd=BdPb4zauCibS67FQusZjw3svnQ7M7g.1 \nPasscode: 861700
URL:https://www.crosbyscholarsiredell.org/events/free-webinar-financial-aid-how-to-complete-the-2026-27-fafsa/
LOCATION:Zoom
CATEGORIES:11th Grade,12th Grade,Academy,Parent Academy
ORGANIZER;CN="Crosby Scholars":MAILTO:info@crosbyscholarsiredell.org
END:VEVENT
BEGIN:VEVENT
DTSTART;TZID=America/New_York:20251013T180000
DTEND;TZID=America/New_York:20251013T190000
DTSTAMP:20260420T102715
CREATED:20251006T180802Z
LAST-MODIFIED:20251006T180802Z
UID:10001735-1760378400-1760382000@www.crosbyscholarsiredell.org
SUMMARY:FREE Virtual Student/Parent Webinar
DESCRIPTION:CLICK HERE to sign up for this FREE virtual webinar. You’ll be sent a link to join online.
URL:https://www.crosbyscholarsiredell.org/events/free-virtual-student-parent-webinar/
LOCATION:Zoom
CATEGORIES:11th Grade,12th Grade,Academy,Junior Academy,Online Academy,Parent Academy,Parents,Senior Academy
ATTACH;FMTTYPE=image/jpeg:https://www.crosbyscholarsiredell.org/wp-content/uploads/sites/4/2025/09/Our-Students-37.jpg
END:VEVENT
BEGIN:VEVENT
DTSTART;TZID=America/New_York:20251014T183000
DTEND;TZID=America/New_York:20251014T200000
DTSTAMP:20260420T102715
CREATED:20250827T181905Z
LAST-MODIFIED:20250828T162220Z
UID:10001724-1760466600-1760472000@www.crosbyscholarsiredell.org
SUMMARY:College Fair - Mooresville Consolidated
DESCRIPTION:Join us for this college fair for the Mooresville area\, sponsored by the Carolinas Association of Collegiate Registrars & Admissions Officers (CACRAO). \nThis fair takes place at Lake Norman Charter Middle School\, 12435 S Old Statesville Rd\, Huntersville\, NC 28078 from 6:30 to 8pm. Additional college fairs are listed below. \nRegistration will open soon at this link. \nCACRAO partners with over 100 2-year and 4-year colleges and universities from North Carolina\, South Carolina\, and nationwide to provide college and career opportunities for your next steps after high school. \nThe Carolinas Association of Collegiate Registrars & Admissions Officers (CACRAO) is a professional organization dedicated to promoting postsecondary education through the professional development of its members\, the sharing of ideas\, and support of the Southern Association of Collegiate Registrars and Admissions Officers\, the American Association of Collegiate Registrars and Admissions Officers\, and their professional associations.
URL:https://www.crosbyscholarsiredell.org/events/college-fair-mooresville-consolidated/
LOCATION:Lake Norman Charter High School\, 12435 S Old Statesville Rd\, Huntersville\, NC\, 28078\, United States
CATEGORIES:10th Grade,11th Grade,12th Grade
ATTACH;FMTTYPE=image/jpeg:https://www.crosbyscholarsiredell.org/wp-content/uploads/sites/4/2025/08/College-Fair-Header.jpg
END:VEVENT
BEGIN:VEVENT
DTSTART;TZID=America/New_York:20251015T083000
DTEND;TZID=America/New_York:20251015T093000
DTSTAMP:20260420T102715
CREATED:20250827T184040Z
LAST-MODIFIED:20250828T161938Z
UID:10001726-1760517000-1760520600@www.crosbyscholarsiredell.org
SUMMARY:College Fair - West Iredell High School
DESCRIPTION:Join us for this college fair for the West Iredell area\, sponsored by the Carolinas Association of Collegiate Registrars & Admissions Officers (CACRAO). \nThis fair takes place at West Iredell High School\, 213 Warrior Road\, Statesville\, NC 28625 from 8:30 to 9:30am. Additional college fairs are listed below. \nRegistration will open soon at this link. \nCACRAO partners with over 100 2-year and 4-year colleges and universities from North Carolina\, South Carolina\, and nationwide to provide college and career opportunities for your next steps after high school. \nThe Carolinas Association of Collegiate Registrars & Admissions Officers (CACRAO) is a professional organization dedicated to promoting postsecondary education through the professional development of its members\, the sharing of ideas\, and support of the Southern Association of Collegiate Registrars and Admissions Officers\, the American Association of Collegiate Registrars and Admissions Officers\, and their professional associations.
URL:https://www.crosbyscholarsiredell.org/events/14687/
LOCATION:West Iredell High School\, 213 Warrior Drive\, Statesville\, NC\, 28625\, United States
CATEGORIES:10th Grade,11th Grade,12th Grade
ATTACH;FMTTYPE=image/jpeg:https://www.crosbyscholarsiredell.org/wp-content/uploads/sites/4/2025/08/College-Fair-Header.jpg
END:VEVENT
BEGIN:VEVENT
DTSTART;TZID=America/New_York:20251015T101500
DTEND;TZID=America/New_York:20251015T111500
DTSTAMP:20260420T102715
CREATED:20250827T182833Z
LAST-MODIFIED:20250828T162023Z
UID:10001725-1760523300-1760526900@www.crosbyscholarsiredell.org
SUMMARY:College Fair - Statesville High School
DESCRIPTION:Join us for this college fair for the West Iredell area\, sponsored by the Carolinas Association of Collegiate Registrars & Admissions Officers (CACRAO). \nThis fair takes place at Statesville High School\, 474 N Center St\, Statesville\, NC 28677 from 10:15 to 11:15am. Additional college fairs are listed below. \nRegistration will open soon at this link. \nCACRAO partners with over 100 2-year and 4-year colleges and universities from North Carolina\, South Carolina\, and nationwide to provide college and career opportunities for your next steps after high school. \nThe Carolinas Association of Collegiate Registrars & Admissions Officers (CACRAO) is a professional organization dedicated to promoting postsecondary education through the professional development of its members\, the sharing of ideas\, and support of the Southern Association of Collegiate Registrars and Admissions Officers\, the American Association of Collegiate Registrars and Admissions Officers\, and their professional associations.
URL:https://www.crosbyscholarsiredell.org/events/college-fair-west-iredell-high-school/
LOCATION:Statesville High School\, 474 N Center St\, Statesville\, NC\, 28677\, United States
CATEGORIES:10th Grade,11th Grade,12th Grade
ATTACH;FMTTYPE=image/jpeg:https://www.crosbyscholarsiredell.org/wp-content/uploads/sites/4/2025/08/College-Fair-Header.jpg
END:VEVENT
BEGIN:VEVENT
DTSTART;TZID=America/New_York:20251015T133000
DTEND;TZID=America/New_York:20251015T143000
DTSTAMP:20260420T102715
CREATED:20250827T184702Z
LAST-MODIFIED:20250828T162100Z
UID:10001727-1760535000-1760538600@www.crosbyscholarsiredell.org
SUMMARY:College Fair - North Iredell High School
DESCRIPTION:Join us for this college fair for the West Iredell area\, sponsored by the Carolinas Association of Collegiate Registrars & Admissions Officers (CACRAO). \nThis fair takes place at North Iredell High School\, 156 Raider Rd\, Olin\, NC 28660 from 1:30 to 2:30pm. Additional college fairs are listed below. \nRegistration will open soon at this link. \nCACRAO partners with over 100 2-year and 4-year colleges and universities from North Carolina\, South Carolina\, and nationwide to provide college and career opportunities for your next steps after high school. \nThe Carolinas Association of Collegiate Registrars & Admissions Officers (CACRAO) is a professional organization dedicated to promoting postsecondary education through the professional development of its members\, the sharing of ideas\, and support of the Southern Association of Collegiate Registrars and Admissions Officers\, the American Association of Collegiate Registrars and Admissions Officers\, and their professional associations.
URL:https://www.crosbyscholarsiredell.org/events/college-fair-north-iredell-high-school/
LOCATION:North Iredell High School\, 156 Raider Road\, Olin\, NC\, 28660\, United States
CATEGORIES:10th Grade,11th Grade,12th Grade
ATTACH;FMTTYPE=image/jpeg:https://www.crosbyscholarsiredell.org/wp-content/uploads/sites/4/2025/08/College-Fair-Header.jpg
END:VEVENT
BEGIN:VEVENT
DTSTART;TZID=America/New_York:20251016T183000
DTEND;TZID=America/New_York:20251016T200000
DTSTAMP:20260420T102715
CREATED:20250827T185048Z
LAST-MODIFIED:20250828T162137Z
UID:10001728-1760639400-1760644800@www.crosbyscholarsiredell.org
SUMMARY:College Fair - South Iredell High School
DESCRIPTION:Join us for this college fair for the West Iredell area\, sponsored by the Carolinas Association of Collegiate Registrars & Admissions Officers (CACRAO). \nThis fair takes place at South Iredell High School\, 299 Old Mountain Rd\, Statesville\, NC 28677 from 6:30 to 8:00pm. Additional college fairs are listed below. \nRegistration will open soon at this link. \nCACRAO partners with over 100 2-year and 4-year colleges and universities from North Carolina\, South Carolina\, and nationwide to provide college and career opportunities for your next steps after high school. \nThe Carolinas Association of Collegiate Registrars & Admissions Officers (CACRAO) is a professional organization dedicated to promoting postsecondary education through the professional development of its members\, the sharing of ideas\, and support of the Southern Association of Collegiate Registrars and Admissions Officers\, the American Association of Collegiate Registrars and Admissions Officers\, and their professional associations.
URL:https://www.crosbyscholarsiredell.org/events/14693/
LOCATION:South Iredell High School\, 299 Old Mountain Road\, Statesville\, NC\, 28677\, United States
CATEGORIES:10th Grade,11th Grade,12th Grade
ATTACH;FMTTYPE=image/jpeg:https://www.crosbyscholarsiredell.org/wp-content/uploads/sites/4/2025/08/College-Fair-Header.jpg
END:VEVENT
BEGIN:VEVENT
DTSTART;TZID=America/New_York:20251016T190000
DTEND;TZID=America/New_York:20251016T200000
DTSTAMP:20260420T102715
CREATED:20250917T182005Z
LAST-MODIFIED:20250917T182151Z
UID:10001733-1760641200-1760644800@www.crosbyscholarsiredell.org
SUMMARY:FREE Student Parent Webinar: The Benefits of NCSSM
DESCRIPTION:Discover the benefits of the N.C. School of Science and Math\, one of the most unique educational institutions in the state!  Visit this Google form to sign up. You’ll receive a link to join this webinar Oct. 16!
URL:https://www.crosbyscholarsiredell.org/events/free-student-parent-webinar-the-benefits-of-ncssm/
LOCATION:Zoom
CATEGORIES:10th Grade,11th Grade,12th Grade,6th Grade,7th Grade,8th Grade,9th Grade,Online Academy,Parent Academy
ATTACH;FMTTYPE=image/jpeg:https://www.crosbyscholarsiredell.org/wp-content/uploads/sites/4/2025/09/Our-Students-37.jpg
END:VEVENT
BEGIN:VEVENT
DTSTART;TZID=America/New_York:20251025T090000
DTEND;TZID=America/New_York:20251025T120000
DTSTAMP:20260420T102715
CREATED:20251022T211746Z
LAST-MODIFIED:20251022T211746Z
UID:10001737-1761382800-1761393600@www.crosbyscholarsiredell.org
SUMMARY:IN-PERSON STUDENT ACADEMY: Test Prep for the SAT
DESCRIPTION:Don’t miss this opportunity to prepare for the SAT! A free Test Prep Session for 10th & 11th Graders takes place this weekend at Mitchell Community College. Bring a friend! There are plenty of spots available. \nLog into your CrosbyConnect account to register: https://portal.crosbyscholars.org/student-portal/
URL:https://www.crosbyscholarsiredell.org/events/in-person-student-academy-test-prep-for-the-sat/
LOCATION:Mitchell Community College Statesville Campus\, 500 West Broad Street\, Statesville\, NC\, 28677\, United States
CATEGORIES:10th Grade,11th Grade,Academy,Junior Academy
END:VEVENT
BEGIN:VEVENT
DTSTART;TZID=America/New_York:20251025T130000
DTEND;TZID=America/New_York:20251025T160000
DTSTAMP:20260420T102715
CREATED:20250820T210055Z
LAST-MODIFIED:20251023T175624Z
UID:10001721-1761397200-1761408000@www.crosbyscholarsiredell.org
SUMMARY:IN-PERSON Student Academy: 6 - 10th grades!
DESCRIPTION:Join us on October 25th at Mitchell Community College in Statesville for an in-person academy! This event will include programming for 6-10th graders. Students will complete a community service project along with their academy. \nRegister in CrosbyConnect.
URL:https://www.crosbyscholarsiredell.org/events/in-person-student-academy-6th-through-10th-grades/
LOCATION:Mitchell Community College Statesville Campus\, 500 West Broad Street\, Statesville\, NC\, 28677\, United States
CATEGORIES:10th Grade,11th Grade,12th Grade,6th Grade,6th Grade Academy,7th & 8th Grade Academy,7th Grade,8th Grade,9th & 10th Grade Academy,9th Grade,Academy,Community Service,Junior Academy,Parent Academy,Senior Academy
ATTACH;FMTTYPE=image/jpeg:https://www.crosbyscholarsiredell.org/wp-content/uploads/sites/4/2025/08/Academy-session-header.jpg
END:VEVENT
BEGIN:VEVENT
DTSTART;TZID=America/New_York:20251027T190000
DTEND;TZID=America/New_York:20251027T200000
DTSTAMP:20260420T102715
CREATED:20251022T203222Z
LAST-MODIFIED:20251022T203222Z
UID:10001736-1761591600-1761595200@www.crosbyscholarsiredell.org
SUMMARY:JUNIOR/SENIOR VIRTUAL ACADEMY - Interviewing Tips and Tricks
DESCRIPTION:Whether it’s a part-time job\, scholarships\, or college admissions interview\, students need to know how to present themselves in the best way possible. Juniors and Seniors can polish those valuable skills with this virtual academy session\, Monday\, Oct. 27 at 7pm.. \nRegister in CrosbyConnect: https://crosbyscholars.pulse.ly/4g0r4Pulse
URL:https://www.crosbyscholarsiredell.org/events/junior-senior-virtual-academy-interviewing-tips-and-tricks/
LOCATION:Zoom
CATEGORIES:11th Grade,12th Grade,Academy,Junior Academy,Senior Academy
ATTACH;FMTTYPE=image/jpeg:https://www.crosbyscholarsiredell.org/wp-content/uploads/sites/4/2025/10/Our-Students-42.jpg
END:VEVENT
BEGIN:VEVENT
DTSTART;TZID=America/New_York:20251029T130000
DTEND;TZID=America/New_York:20251029T150000
DTSTAMP:20260420T102715
CREATED:20251028T154437Z
LAST-MODIFIED:20251028T154437Z
UID:10001741-1761742800-1761750000@www.crosbyscholarsiredell.org
SUMMARY:Elevate: Building Business Skills for Success
DESCRIPTION:30 Students will participate in this workshop to work on skills that will help them in future careers.
URL:https://www.crosbyscholarsiredell.org/events/elevate-building-business-skills-for-success/
LOCATION:Goodwill Career Connections Center\, 124 Fourth Crescent Place\, Statesville\, NC\, 28625\, United States
CATEGORIES:11th Grade,12th Grade,Special Event
END:VEVENT
END:VCALENDAR