BEGIN:VCALENDAR
VERSION:2.0
PRODID:-//Crosby Scholars Iredell - ECPv6.15.13.1//NONSGML v1.0//EN
CALSCALE:GREGORIAN
METHOD:PUBLISH
X-ORIGINAL-URL:https://www.crosbyscholarsiredell.org
X-WR-CALDESC:Events for Crosby Scholars Iredell
REFRESH-INTERVAL;VALUE=DURATION:PT1H
X-Robots-Tag:noindex
X-PUBLISHED-TTL:PT1H
BEGIN:VTIMEZONE
TZID:America/New_York
BEGIN:DAYLIGHT
TZOFFSETFROM:-0500
TZOFFSETTO:-0400
TZNAME:EDT
DTSTART:20190310T070000
END:DAYLIGHT
BEGIN:STANDARD
TZOFFSETFROM:-0400
TZOFFSETTO:-0500
TZNAME:EST
DTSTART:20191103T060000
END:STANDARD
BEGIN:DAYLIGHT
TZOFFSETFROM:-0500
TZOFFSETTO:-0400
TZNAME:EDT
DTSTART:20200308T070000
END:DAYLIGHT
BEGIN:STANDARD
TZOFFSETFROM:-0400
TZOFFSETTO:-0500
TZNAME:EST
DTSTART:20201101T060000
END:STANDARD
BEGIN:DAYLIGHT
TZOFFSETFROM:-0500
TZOFFSETTO:-0400
TZNAME:EDT
DTSTART:20210314T070000
END:DAYLIGHT
BEGIN:STANDARD
TZOFFSETFROM:-0400
TZOFFSETTO:-0500
TZNAME:EST
DTSTART:20211107T060000
END:STANDARD
END:VTIMEZONE
BEGIN:VEVENT
DTSTART;TZID=America/New_York:20200921T160000
DTEND;TZID=America/New_York:20200921T170000
DTSTAMP:20260419T233047
CREATED:20200917T162113Z
LAST-MODIFIED:20200917T162113Z
UID:10001139-1600704000-1600707600@www.crosbyscholarsiredell.org
SUMMARY:Zoom Welcome Meeting!
DESCRIPTION:Join us as we welcome new students to the Crosby Scholars program! This is a zoom meeting for you to get the chance to get an introduction to the program and meet our awesome staff. You will be meeting our Middle School Coordinator Ashley Scott.
URL:https://www.crosbyscholarsiredell.org/events/zoom-welcome-meeting-8/
LOCATION:NC
END:VEVENT
BEGIN:VEVENT
DTSTART;TZID=America/New_York:20200921T180000
DTEND;TZID=America/New_York:20200921T183000
DTSTAMP:20260419T233047
CREATED:20200831T162913Z
LAST-MODIFIED:20200831T162913Z
UID:10001131-1600711200-1600713000@www.crosbyscholarsiredell.org
SUMMARY:Interview with High school Freshman!- Online Zoom Academy
DESCRIPTION:This is an online zoom meeting academy for 7th and 8th grade Middle School students with Ashley Scott. \nDuring this webinar\, students will have the opportunity to ask questions to a High school senior and gain advice on how they managed their 7th and 8th grade school year. This webinar is designed to help 7th and 8th graders navigate through the school year and learning from a fellow Crosby Scholar. \nYou will receive a link to the meeting when you register!
URL:https://www.crosbyscholarsiredell.org/events/interview-with-high-school-freshman-online-zoom-academy/
LOCATION:NC
END:VEVENT
END:VCALENDAR